BEGIN:VCALENDAR
VERSION:2.0
PRODID:-//wp-events-plugin.com//7.2.3.1//EN
TZID:America/New_York
X-WR-TIMEZONE:America/New_York
BEGIN:VEVENT
UID:423@breathemiami.us
DTSTART;TZID=America/New_York:20240428T090000
DTEND;TZID=America/New_York:20240428T120000
DTSTAMP:20240409T005905Z
URL:https://breathemiami.us/events/glow-wellness-morning-at-rejuvenate/
SUMMARY:Glow Wellness Morning at Rejuvenate By Silvia
DESCRIPTION:\nRecharge Your Mornings with Glow Wellness at Rejuvenate By Si
 lvia!\nSeeking a revitalizing start to your month? Look no further than Gl
 ow Wellness Mornings at Rejuvenate By Silvia! Held on the fourth Saturday 
 of every month at 11440 North Kendall Drive suite 106\, Miami\, FL\, USA\,
  this event offers a perfect blend of self-care\, education\, and special 
 offers.\nRejuvenate Your Mind &amp\; Body:\nEscape the daily grind and ind
 ulge in a morning dedicated to your well-being. Rejuvenate By Silvia\, a h
 aven for wellness\, provides the ideal setting for relaxation and self-dis
 covery.\nDiscounts &amp\; Education on Essential Services:\nGlow Wellness 
 Mornings go beyond pampering. You'll benefit from:\n\n\n 	20% Off All Well
 ness Services: Pamper yourself with a variety of services at a discounted 
 price\, including:\n\n 	IV Therapy: Fuel your body with essential nutrient
 s and hydration.\n 	B12 &amp\; MICC Shots &amp\; Lipotropics: Boost your e
 nergy levels and support a healthy metabolism.\n 	Weight Loss: Learn about
  effective and personalized weight loss strategies.\n\n\n\nEmpowering Thro
 ugh Education:\nGlow Wellness Mornings also offer valuable educational opp
 ortunities:\n\n\n 	Expert Insights: Gain valuable knowledge about these se
 rvices from experienced professionals at Rejuvenate By Silvia.\n 	Ask Ques
 tions: This is your chance to ask questions and explore solutions that bes
 t align with your wellness goals.\n\nInvest in Yourself:\nGlow Wellness Mo
 rnings is an investment in your well-being:\n\n\n 	Treat Yourself: Dedicat
 e time to self-care and prioritize your physical and mental health.\n 	Dis
 cover New Possibilities: Explore wellness services that can enhance your o
 verall well-being.\n 	Empowered Choices: Leave equipped with knowledge and
  personalized recommendations to make informed choices about your health.\
 n\nMake Glow Wellness Mornings a Habit:\nJoin us on the fourth Saturday of
  every month and make Glow Wellness Mornings a regular part of your self-c
 are routine. At Rejuvenate By Silvia\, you'll find the perfect blend of re
 laxation\, education\, and special offers to kickstart your month with ren
 ewed energy and a commitment to your well-being.\nDon't delay! Start your 
 journey to a healthier\, happier you with Glow Wellness Mornings!\n\n\n\nB
 OOK SPOTS\n
ATTACH;FMTTYPE=image/jpeg:https://breathemiami.us/wp-content/uploads/2024/
 04/https___cdn.evbuc_.com_images_734860799_1973720361513_1_original.jpeg
CATEGORIES:Wellness Events
LOCATION:11440 North Kendall Drive suite 106\, 11440 North Kendall Drive #s
 uite 106\, Miami\, Florida\, 33176\, United States
X-APPLE-STRUCTURED-LOCATION;VALUE=URI;X-ADDRESS=11440 North Kendall Drive #
 suite 106\, Miami\, Florida\, 33176\, United States;X-APPLE-RADIUS=100;X-T
 ITLE=11440 North Kendall Drive suite 106:geo:0,0
END:VEVENT
BEGIN:VTIMEZONE
TZID:America/New_York
X-LIC-LOCATION:America/New_York
BEGIN:DAYLIGHT
DTSTART:20240310T030000
TZOFFSETFROM:-0500
TZOFFSETTO:-0400
TZNAME:EDT
END:DAYLIGHT
END:VTIMEZONE
END:VCALENDAR