BEGIN:VCALENDAR
VERSION:2.0
PRODID:-//wp-events-plugin.com//7.2.3.1//EN
TZID:America/New_York
X-WR-TIMEZONE:America/New_York
BEGIN:VEVENT
UID:611@breathemiami.us
DTSTART;TZID=America/New_York:20240716T100000
DTEND;TZID=America/New_York:20240716T190000
DTSTAMP:20240706T070728Z
URL:https://breathemiami.us/events/glow-and-go-by-skin-studio-dd/
SUMMARY:Glow and Go by Skin Studio DD
DESCRIPTION:\n\n\n\n\nJoin us for an exclusive event at Skin Studio DD and 
 indulge in a complimentary consultation and mini facial. Whether you're ne
 w to skincare routines or seeking expert advice\, our event promises a rej
 uvenating experience that will leave you glowing.\n\nEvent Highlights:\n\n
 Explore Our Services: Discover a range of personalized skincare services a
 nd learn about our membership options tailored to meet your unique skincar
 e needs.\n\nEnter Our Raffle: When you subscribe to our membership or book
  any service during the event\, participate in our raffle for a chance to 
 win a luxurious Facial Massage\, ensuring you leave feeling pampered and r
 efreshed.\n\nExpert Esthetician Experience: Experience the skill and care 
 of our estheticians who will treat you to a thorough cleanse\, a refreshin
 g mask to revitalize your skin\, a hydrating cream massage\, and top it of
 f with sun protection to nourish and protect your skin.\n\nEmbrace Relaxat
 ion and Rejuvenation:\n\nDon’t miss out on this opportunity to relax and
  rejuvenate your skin at Skin Studio DD. Enjoy personalized attention and 
 expert skincare treatments designed to enhance your natural beauty and lea
 ve you feeling radiant.\n\nConclusion:\n\nJoin us at Skin Studio DD for an
  unforgettable experience of skincare excellence. Discover the secrets to 
 glowing\, healthy skin with our complimentary consultation and mini facial
 \, and take advantage of exclusive offers during this special event. Treat
  yourself to the care and expertise you deserve\, and step out with a rene
 wed sense of confidence and beauty.\n\nGET TICKETS\n\n\n\n\n
ATTACH;FMTTYPE=image/jpeg:https://breathemiami.us/wp-content/uploads/2024/
 07/Glow-and-Go-by-Skin-Studio-DD.jpg
CATEGORIES:Things To Do,Wellness Events
LOCATION:386 Miracle Mile\, 386 Miracle Mile Coral Gables\, Miami\, Fl\, 33
 134\, FL \, United States
X-APPLE-STRUCTURED-LOCATION;VALUE=URI;X-ADDRESS=386 Miracle Mile Coral Gabl
 es\, Miami\, Fl\, 33134\, FL \, United States;X-APPLE-RADIUS=100;X-TITLE=3
 86 Miracle Mile:geo:0,0
END:VEVENT
BEGIN:VTIMEZONE
TZID:America/New_York
X-LIC-LOCATION:America/New_York
BEGIN:DAYLIGHT
DTSTART:20240310T030000
TZOFFSETFROM:-0500
TZOFFSETTO:-0400
TZNAME:EDT
END:DAYLIGHT
END:VTIMEZONE
END:VCALENDAR