BEGIN:VCALENDAR
VERSION:2.0
PRODID:-//wp-events-plugin.com//7.2.3.1//EN
TZID:America/New_York
X-WR-TIMEZONE:America/New_York
BEGIN:VEVENT
UID:1175@breathemiami.us
DTSTART;TZID=America/New_York:20241117T100000
DTEND;TZID=America/New_York:20241117T130000
DTSTAMP:20241023T163558Z
URL:https://breathemiami.us/events/gira-de-healy-usa-visitando-miami-fl/
SUMMARY:Gira de Healy USA visitando Miami\, FL
DESCRIPTION:The Healy USA Tour is making its way to Miami\, FL! This cuttin
 g-edge wellness device\, designed to promote overall well-being\, is gaini
 ng momentum worldwide\, and now Miami residents can experience it firsthan
 d. The Healy device uses frequency therapy to enhance physical\, emotional
 \, and mental balance\, supporting everything from energy alignment to str
 ess reduction.\n\nDuring the tour stop\, attendees will have the chance to
  engage in live demonstrations\, participate in wellness workshops\, and l
 earn how Healy can integrate into their daily routine for optimal health. 
 Whether you're already familiar with the Healy device or curious to learn 
 more about how frequency therapy works\, this event will provide valuable 
 insights and hands-on experience.\n\nJoin wellness enthusiasts\, practitio
 ners\, and curious minds in this special event designed to empower your he
 alth journey with cutting-edge technology.\n\nEvent Highlights:\n\n 	Live 
 Healy Demonstrations\n 	Wellness Workshops and Talks\n 	Opportunities for 
 Personal Consultations\n 	Networking with Like-Minded Individuals\n\nDon't
  miss your chance to be part of this transformative experience in Miami! S
 ecure your spot today and explore the future of wellness with Healy.\n\nGE
 T TICKETS\n
ATTACH;FMTTYPE=image/jpeg:https://breathemiami.us/wp-content/uploads/2024/
 10/Gira-de-Healy-USA-visitando-Miami-FL.jpg
CATEGORIES:Things To Do
LOCATION:EB Hotel Miami\, 4299 Northwest 36th Street\, Miami\, Florida\, 33
 166\, FL\, United States
X-APPLE-STRUCTURED-LOCATION;VALUE=URI;X-ADDRESS=4299 Northwest 36th Street\
 , Miami\, Florida\, 33166\, FL\, United States;X-APPLE-RADIUS=100;X-TITLE=
 EB Hotel Miami:geo:0,0
END:VEVENT
BEGIN:VTIMEZONE
TZID:America/New_York
X-LIC-LOCATION:America/New_York
BEGIN:STANDARD
DTSTART:20241103T010000
TZOFFSETFROM:-0400
TZOFFSETTO:-0500
TZNAME:EST
END:STANDARD
END:VTIMEZONE
END:VCALENDAR