BEGIN:VCALENDAR
VERSION:2.0
PRODID:-//wp-events-plugin.com//7.2.3.1//EN
TZID:America/New_York
X-WR-TIMEZONE:America/New_York
BEGIN:VEVENT
UID:903@breathemiami.us
DTSTART;TZID=America/New_York:20241005T120000
DTEND;TZID=America/New_York:20241005T190000
DTSTAMP:20240924T214428Z
URL:https://breathemiami.us/events/gipa-oktoberfest/
SUMMARY:GIPA Oktoberfest
DESCRIPTION:GIPA\n\nJoin us for a Family-Friendly Oktoberfest celebration!\
 n\nSaturday\, October 5th\,\n\n12:00 PM - 7:00 PM\n\nGerman American Socia
 l Club\n\n11919 SW 56th St\, Miami\, FL 33175\n\nEntry is free!
ATTACH;FMTTYPE=image/jpeg:https://breathemiami.us/wp-content/uploads/2024/
 09/octoberfest.jpg
CATEGORIES:Food &amp; Drink Events
LOCATION:German American Social Club\, 11919 SW 56th Street \, Miami \, Flo
 rida\, 33175\, Miami Dade \, United States
X-APPLE-STRUCTURED-LOCATION;VALUE=URI;X-ADDRESS=11919 SW 56th Street \, Mia
 mi \, Florida\, 33175\, Miami Dade \, United States;X-APPLE-RADIUS=100;X-T
 ITLE=German American Social Club:geo:0,0
END:VEVENT
BEGIN:VTIMEZONE
TZID:America/New_York
X-LIC-LOCATION:America/New_York
BEGIN:DAYLIGHT
DTSTART:20240310T030000
TZOFFSETFROM:-0500
TZOFFSETTO:-0400
TZNAME:EDT
END:DAYLIGHT
END:VTIMEZONE
END:VCALENDAR