BEGIN:VCALENDAR
VERSION:2.0
PRODID:-//wp-events-plugin.com//7.2.3.1//EN
TZID:America/New_York
X-WR-TIMEZONE:America/New_York
BEGIN:VEVENT
UID:1208@breathemiami.us
DTSTART;TZID=America/New_York;VALUE=DATE:20241213
DTEND;TZID=America/New_York;VALUE=DATE:20241225
DTSTAMP:20241130T083227Z
URL:https://breathemiami.us/events/george-balanchines-the-nutcracker/
SUMMARY:George Balanchine’s The Nutcracker
DESCRIPTION:This holiday season\, immerse yourself in the magic of a cheris
 hed tradition as George Balanchine’s The Nutcracker graces the stage at 
 the Adrienne Arsht Center. From December 13 to December 24\, the Miami Cit
 y Ballet will captivate audiences with twice-daily performances of this en
 chanting classic\, brought to life by a cast of over 100 talented dancers 
 and accompanied by the soaring melodies of Tchaikovsky’s score performed
  by a live orchestra.\nA Classic Reimagined\nWhether it’s your first exp
 erience or a beloved annual tradition\, The Nutcracker offers something tr
 uly magical for everyone. This visually stunning production\, inspired by 
 Balanchine’s masterful choreography\, combines elegance\, whimsy\, and t
 heatrical brilliance. The story follows young Clara as she embarks on a fa
 ntastical journey through a sparkling winter wonderland\, a daring battle 
 with mischievous mice\, and the opulent Kingdom of Sweets presided over by
  the Sugar Plum Fairy.\n\nEvery detail of this performance\, from the dazz
 ling costumes to the intricately designed sets\, evokes the timeless magic
  of the holiday season. Miami City Ballet’s interpretation adds a specia
 l local charm to the classic\, making it a must-see for families and balle
 t enthusiasts alike.\nWhy This Year’s Nutcracker Is Unmissable\nThis yea
 r’s production promises to be more breathtaking than ever. Under the art
 istic direction of Miami City Ballet\, the cast showcases an extraordinary
  blend of seasoned professionals and promising young talent. Expect mesmer
 izing performances\, from the lively snowflakes swirling in intricate form
 ations to the spirited dance of the toy soldiers and the grandeur of the f
 amous Waltz of the Flowers.\n\nThe live orchestra’s interpretation of Tc
 haikovsky’s legendary score elevates the experience\, creating an emotio
 nal resonance that stays with audiences long after the final curtain falls
 . Combined with the artistry of Balanchine's choreography\, this performan
 ce promises to be a sensory feast.\nPerfect for All Ages\nThe Nutcracker i
 s more than just a ballet\; it’s a holiday tradition that brings generat
 ions together. With its heartwarming story\, enchanting characters\, and m
 oments of humor and wonder\, it’s an ideal outing for families\, couples
 \, and groups of friends. From the youngest attendees marveling at the Nut
 cracker’s battle with the Mouse King to lifelong fans savoring every nua
 nced pirouette\, this show appeals to audiences of all ages.\nPlan Your Vi
 sit\nPerformances run daily from December 13 through December 24 at the Ad
 rienne Arsht Center\, with matinee and evening showtimes available to suit
  your schedule. Tickets are expected to sell quickly\, so early reservatio
 ns are highly recommended to secure the best seats for this beloved holida
 y extravaganza.\nA Magical Holiday Experience Awaits\nDon’t miss the cha
 nce to witness the spellbinding artistry of George Balanchine’s The Nutc
 racker as it brings the magic of the season to life. Whether you’re marv
 eling at the Sugar Plum Fairy’s delicate movements or tapping your feet 
 to the iconic "Dance of the Reed Flutes\," this production promises an unf
 orgettable celebration of the holiday spirit.\n\nGET TICKETS\n
ATTACH;FMTTYPE=image/jpeg:https://breathemiami.us/wp-content/uploads/2024/
 11/George-Balanchines-The-Nutcracker.webp
CATEGORIES:Things To Do
LOCATION:Adrienne Arsht Center for the Performing Arts of Miami-Dade County
 \, 1300 Biscayne Blvd\, Miami\, Florida\, 33172\, FL\, United States
X-APPLE-STRUCTURED-LOCATION;VALUE=URI;X-ADDRESS=1300 Biscayne Blvd\, Miami\
 , Florida\, 33172\, FL\, United States;X-APPLE-RADIUS=100;X-TITLE=Adrienne
  Arsht Center for the Performing Arts of Miami-Dade County:geo:0,0
END:VEVENT
BEGIN:VTIMEZONE
TZID:America/New_York
X-LIC-LOCATION:America/New_York
BEGIN:STANDARD
DTSTART:20241103T010000
TZOFFSETFROM:-0400
TZOFFSETTO:-0500
TZNAME:EST
END:STANDARD
END:VTIMEZONE
END:VCALENDAR