BEGIN:VCALENDAR
VERSION:2.0
PRODID:-//wp-events-plugin.com//7.2.3.1//EN
TZID:America/New_York
X-WR-TIMEZONE:America/New_York
BEGIN:VEVENT
UID:883@breathemiami.us
DTSTART;TZID=America/New_York:20240922T190000
DTEND;TZID=America/New_York:20240922T203000
DTSTAMP:20240917T080753Z
URL:https://breathemiami.us/events/fundamentals-of-the-psychedelic-renaiss
 ance/
SUMMARY:Fundamentals of the Psychedelic Renaissance
DESCRIPTION:Embark on an enlightening journey with Irina Vlada\, PhD(c)\, a
 nd Dr. Michelle Weiner as they delve into the cutting-edge field of psyche
 delic medicine. This workshop offers a comprehensive exploration of the la
 test clinical research\, shedding light on the healing mechanisms and prac
 tical applications of psychedelics.\n\nParticipants will begin by explorin
 g the concept of the inner healer\, focusing on the body’s intrinsic cap
 acity for self-healing. The session will then emphasize the critical impor
 tance of preparation and integration when working with psychedelics\, alon
 gside alternative healing practices such as breathwork and mindfulness. At
 tendees will be guided through the process of setting a personal intention
  for healing and transformation\, helping to align their journey with thei
 r own goals for growth.\n\nThis workshop is designed to provide participan
 ts with a deep understanding of psychedelic medicine and its potential to 
 foster personal and collective well-being. Join Irina and Dr. Michelle for
  an opportunity to enhance your knowledge and set a transformative intenti
 on for your healing journey.\n\nGET TICKETS\n
ATTACH;FMTTYPE=image/jpeg:https://breathemiami.us/wp-content/uploads/2024/
 09/Fundamentals-of-the-Psychedelic-Renaissance.jpg
CATEGORIES:Things To Do,Wellness Events
LOCATION:The Standard Spa\, 40 Island Avenue Miami Beach\, Miami\, Florida\
 , 33139\,  FL \, United States
X-APPLE-STRUCTURED-LOCATION;VALUE=URI;X-ADDRESS=40 Island Avenue Miami Beac
 h\, Miami\, Florida\, 33139\,  FL \, United States;X-APPLE-RADIUS=100;X-TI
 TLE=The Standard Spa:geo:0,0
END:VEVENT
BEGIN:VTIMEZONE
TZID:America/New_York
X-LIC-LOCATION:America/New_York
BEGIN:DAYLIGHT
DTSTART:20240310T030000
TZOFFSETFROM:-0500
TZOFFSETTO:-0400
TZNAME:EDT
END:DAYLIGHT
END:VTIMEZONE
END:VCALENDAR