BEGIN:VCALENDAR
VERSION:2.0
PRODID:-//wp-events-plugin.com//7.2.3.1//EN
TZID:America/New_York
X-WR-TIMEZONE:America/New_York
BEGIN:VEVENT
UID:524@breathemiami.us
DTSTART;TZID=America/New_York:20240615T090000
DTEND;TZID=America/New_York:20240615T100000
DTSTAMP:20240531T150528Z
URL:https://breathemiami.us/events/fun-goat-yoga-with-baby-goats-farm-tour
 -music/
SUMMARY:Fun Goat Yoga with Baby Goats\, Farm Tour\, Music
DESCRIPTION:Join us for an unforgettable Goat Yoga session with Baby Goats 
 at 24 Karat Ranch\, a top-rated and unique experience in Palm Beaches\, FL
 . This event promises a delightful blend of relaxation\, fun\, and memorab
 le moments.\nSuitable for Everyone\nWhether you're a single\, an adult\, a
  child aged 2 and above\, a grandparent\, or part of a family gathering\, 
 this event is perfect for all. It's also ideal for corporate team building
 \, baby showers\, birthday celebrations\, and bachelorette parties. No pri
 or yoga experience is required\, making it accessible to everyone.\nThe Be
 st Goat Yoga in Palm Beach\nPraised by customers as the best goat yoga exp
 erience in Palm Beach\, participants will enjoy gentle yoga sessions accom
 panied by cute baby goats\, specially trained for human social interaction
 s.\nSerene Yoga and Mindfulness\nPractice yoga and mindfulness exercises i
 n a beautiful 10-acre serene ranch setting. The tranquil environment promo
 tes relaxation and a deep connection with nature\, enhancing the overall e
 xperience.\nExclusive Ranch Tour\nGet a behind-the-scenes look at the ranc
 h where goats eat\, live\, play\, and sleep. You'll also meet other wonder
 ful farm animals\, including miniature piglets\, horses\, cows\, and a bab
 y donkey. Each event is uniquely designed to offer new and pleasant surpri
 ses.\nLed by Skilled Yogis\nOur talented and specialized yogis integrate y
 oga teaching\, nature healing\, and farm animal-assisted wellness into a f
 un\, memorable experience. Their expertise ensures that each session is bo
 th enjoyable and beneficial.\nA Family-Owned Local Business\nEnjoy this un
 ique and unforgettable experience at 24 Karat Ranch\, a family-owned and o
 perated farm. We are committed to providing a warm and welcoming atmospher
 e for all our guests.\n\nGET TICKETS\n
ATTACH;FMTTYPE=image/jpeg:https://breathemiami.us/wp-content/uploads/2024/
 05/Fun-Goat-Yoga-with-Baby-Goats-Farm-Tour-Music.jpg
CATEGORIES:Yoga Events
LOCATION:24 Karat Ranch\, 3765 E Road Loxahatchee\, Miami\, Florida\, 33139
 \,  FL \, United States
X-APPLE-STRUCTURED-LOCATION;VALUE=URI;X-ADDRESS=3765 E Road Loxahatchee\, M
 iami\, Florida\, 33139\,  FL \, United States;X-APPLE-RADIUS=100;X-TITLE=2
 4 Karat Ranch:geo:0,0
END:VEVENT
BEGIN:VTIMEZONE
TZID:America/New_York
X-LIC-LOCATION:America/New_York
BEGIN:DAYLIGHT
DTSTART:20240310T030000
TZOFFSETFROM:-0500
TZOFFSETTO:-0400
TZNAME:EDT
END:DAYLIGHT
END:VTIMEZONE
END:VCALENDAR