BEGIN:VCALENDAR
VERSION:2.0
PRODID:-//wp-events-plugin.com//7.2.3.1//EN
TZID:America/New_York
X-WR-TIMEZONE:America/New_York
BEGIN:VEVENT
UID:1141@breathemiami.us
DTSTART;TZID=America/New_York;VALUE=DATE:20241115
DTEND;TZID=America/New_York;VALUE=DATE:20241116
DTSTAMP:20241023T081509Z
URL:https://breathemiami.us/events/full-moon-yoga-sound-healing-80th-lifeg
 uard-stand-11-15-24-share/
SUMMARY:Full Moon Yoga & Sound Healing @80th Lifeguard Stand 11/15/24 SHARE
DESCRIPTION:Join the community on Friday\, November 15th\, 2024\, for a spe
 cial Beaver Full Moon event\, featuring Sunset Yoga and Sound Healing at 4
 :44 PM\, followed by the largest regular drum circle in the U.S. at 6 PM. 
 This magical evening will take place near the 80th lifeguard stand at Miam
 i Beach\, offering a transformative experience for all ages.\n\nThe event 
 begins with a rejuvenating yoga session\, led by volunteers\, and enhanced
  by sound healing with instruments like rain sticks\, bells\, gongs\, and 
 more. Participants are encouraged to bring their own instruments or borrow
  from the community. Mermaid fans are invited to join the fun by wearing m
 ermaid-themed outfits or bringing fins for a photo shoot on the beach.\n\n
 After yoga\, the drum circle will kick off at around 6 PM\, welcoming drum
 mers\, dancers\, and flow artists to create and share in the energy of the
  full moon. Everyone is invited to bring yoga mats\, musical instruments\,
  drums\, LED props\, and extra blankets to fully enjoy the night under the
  stars. Be sure to invite friends and family\, and don’t forget to pack 
 food\, drinks\, and your own reusable cups—leave no trace and help keep 
 the beach clean.\n\nVolunteers for yoga and sound captains are welcome to 
 sign up on-site at 4:00 PM to help lead the event. Free parking is availab
 le after 6 PM\, but attendees are advised to double-check the parking mete
 rs and signs to avoid any issues.\n\nJoin us for this celebration of commu
 nity\, music\, and movement at 7901 Collins Avenue\, just 100-150 feet nor
 th of the 80th lifeguard stand. The event is open to all ages and encourag
 es everyone to embrace the spirit of the full moon. For more details and u
 pdates\, be sure to follow @fullmoondrumcirclemiami and tag your photos to
  share the magic!\n\nStay connected with us through our WhatsApp Group Cha
 t and find links to all our events via Linktree.\n\nGET TICKETS\n
ATTACH;FMTTYPE=image/jpeg:https://breathemiami.us/wp-content/uploads/2024/
 10/Full-Moon-Yoga-Sound-Healing-1.jpg
CATEGORIES:Wellness Events
LOCATION:Sound Healing & Drum Circle @ 80th Lifeguard Stand\, 7901 Collins 
 Avenue\, Miami Beach\, Florida\, 33141\, FL\, United States
X-APPLE-STRUCTURED-LOCATION;VALUE=URI;X-ADDRESS=7901 Collins Avenue\, Miami
  Beach\, Florida\, 33141\, FL\, United States;X-APPLE-RADIUS=100;X-TITLE=S
 ound Healing & Drum Circle @ 80th Lifeguard Stand:geo:0,0
END:VEVENT
BEGIN:VTIMEZONE
TZID:America/New_York
X-LIC-LOCATION:America/New_York
BEGIN:STANDARD
DTSTART:20241103T010000
TZOFFSETFROM:-0400
TZOFFSETTO:-0500
TZNAME:EST
END:STANDARD
END:VTIMEZONE
END:VCALENDAR