BEGIN:VCALENDAR
VERSION:2.0
PRODID:-//wp-events-plugin.com//7.2.3.1//EN
TZID:America/New_York
X-WR-TIMEZONE:America/New_York
BEGIN:VEVENT
UID:699@breathemiami.us
DTSTART;TZID=America/New_York:20240820T193000
DTEND;TZID=America/New_York:20240820T210000
DTSTAMP:20240806T073747Z
URL:https://breathemiami.us/events/full-moon-yoga-flow-sound-healing/
SUMMARY:Full Moon Yoga Flow & Sound Healing
DESCRIPTION:Step into an enchanting evening of relaxation and rejuvenation 
 at the Moonlit Harmony event\, hosted at YogaSix Miami Midtown. On this sp
 ecial night\, immerse yourself in the radiant energy of the full moon as i
 t guides you through a serene yoga flow\, followed by a deeply soothing so
 und healing session.\n\nEvent Highlights:\n\n 	Full Moon Yoga Flow: Engage
  in a gentle\, guided yoga practice designed to harmonize your body and mi
 nd with the moon’s luminous energy. The flow will be tailored to promote
  tranquility and balance\, allowing you to connect deeply with your inner 
 self.\n 	Sound Healing: Following the yoga session\, surrender to the tran
 sformative sounds of healing instruments. The sound bath will wash over yo
 u\, facilitating deep relaxation and emotional release.\n\nThis magical ev
 ening is crafted to help you align with the full moon’s energy\, promoti
 ng holistic well-being and inner peace. Whether you’re a seasoned yogi o
 r new to these practices\, Moonlit Harmony offers a unique opportunity to 
 rejuvenate your spirit and find calm under the celestial glow.\n\nReserve 
 your spot for Moonlit Harmony: Full Moon Yoga Flow &amp\; Sound Healing an
 d prepare for a night of profound relaxation and renewal.\n\nGET TICKETS\n
ATTACH;FMTTYPE=image/jpeg:https://breathemiami.us/wp-content/uploads/2024/
 08/Full-Moon-Yoga-Flow-Sound-Healing.jpg
CATEGORIES:Mindfulness Events,Things To Do,Wellness Events,Yoga Events
LOCATION:YogaSix Miami Midtown\, 3900 Biscayne Boulevard \, Miami\,  United
  States\, 33137\, FL \, United States
X-APPLE-STRUCTURED-LOCATION;VALUE=URI;X-ADDRESS=3900 Biscayne Boulevard \, 
 Miami\,  United States\, 33137\, FL \, United States;X-APPLE-RADIUS=100;X-
 TITLE=YogaSix Miami Midtown:geo:0,0
END:VEVENT
BEGIN:VTIMEZONE
TZID:America/New_York
X-LIC-LOCATION:America/New_York
BEGIN:DAYLIGHT
DTSTART:20240310T030000
TZOFFSETFROM:-0500
TZOFFSETTO:-0400
TZNAME:EDT
END:DAYLIGHT
END:VTIMEZONE
END:VCALENDAR