BEGIN:VCALENDAR
VERSION:2.0
PRODID:-//wp-events-plugin.com//7.2.3.1//EN
TZID:America/New_York
X-WR-TIMEZONE:America/New_York
BEGIN:VEVENT
UID:603@breathemiami.us
DTSTART;TZID=America/New_York:20240721T073000
DTEND;TZID=America/New_York:20240721T083000
DTSTAMP:20240704T151921Z
URL:https://breathemiami.us/events/full-moon-yoga-experience/
SUMMARY:FULL MOON YOGA EXPERIENCE
DESCRIPTION:Embrace the magic of the full moon with an enchanting evening o
 f yoga at Nikki Beach Miami\, situated on the sands of Ocean Drive in vibr
 ant South Beach. Join us for a serene gathering where you can connect with
  nature\, feel the soothing ocean breeze\, and indulge in a unique yoga pr
 actice under the radiant glow of the full moon.\n\nEvent Details:\n\nExper
 ience a blissful session of yoga in a picturesque outdoor setting\, enhanc
 ed by the tranquil ambiance of the moonlit beach. Whether you're a seasone
 d yogi or a novice\, everyone is welcome to participate in this rejuvenati
 ng practice.\n\nHighlights:\n\n 	Natural Serenity: Immerse yourself in the
  calming atmosphere of South Beach\, surrounded by the gentle sounds of th
 e ocean and the luminous light of the full moon.\n 	Guided Yoga Flow: Join
  our experienced yoga instructor for a harmonious session designed to harm
 onize body\, mind\, and spirit. Flow through poses that promote relaxation
 \, flexibility\, and inner peace.\n 	Community Connection: Share this magi
 cal experience with like-minded individuals as you come together to practi
 ce yoga under the celestial night sky.\n 	Open to All: No prior yoga exper
 ience is necessary. Just bring your yoga mat\, a positive mindset\, and an
  open heart ready to embrace the serenity of the moment.\n\nJoin Us:\n\nDo
 n't miss this opportunity to align yourself with the natural rhythms of th
 e universe. Whether you seek spiritual renewal\, physical relaxation\, or 
 simply wish to enjoy a tranquil evening by the sea\, the Full Moon Yoga Ex
 perience at Nikki Beach Miami promises to be an unforgettable event.\n\nCo
 me ready to flow\, breathe\, and find peace under the full moon's enchanti
 ng glow. We look forward to welcoming you to this special yoga gathering b
 y the ocean.\n\nGET TICKETS\n
ATTACH;FMTTYPE=image/jpeg:https://breathemiami.us/wp-content/uploads/2024/
 07/FULL-MOON-YOGA-EXPERIENCE.jpg
CATEGORIES:Mindfulness Events,Nature Events,Things To Do,Wellness
 Events,Yoga Events
LOCATION:Nikki Beach Miami\, 1 Ocean Drive By the Blue House at the beach\,
  Miami\, Florida\, 33139\,  FL \, United States
X-APPLE-STRUCTURED-LOCATION;VALUE=URI;X-ADDRESS=1 Ocean Drive By the Blue H
 ouse at the beach\, Miami\, Florida\, 33139\,  FL \, United States;X-APPLE
 -RADIUS=100;X-TITLE=Nikki Beach Miami:geo:0,0
END:VEVENT
BEGIN:VTIMEZONE
TZID:America/New_York
X-LIC-LOCATION:America/New_York
BEGIN:DAYLIGHT
DTSTART:20240310T030000
TZOFFSETFROM:-0500
TZOFFSETTO:-0400
TZNAME:EDT
END:DAYLIGHT
END:VTIMEZONE
END:VCALENDAR