BEGIN:VCALENDAR
VERSION:2.0
PRODID:-//wp-events-plugin.com//7.2.3.1//EN
TZID:America/New_York
X-WR-TIMEZONE:America/New_York
BEGIN:VEVENT
UID:1088@breathemiami.us
DTSTART;TZID=America/New_York:20241117T190000
DTEND;TZID=America/New_York:20241117T210000
DTSTAMP:20241013T140241Z
URL:https://breathemiami.us/events/full-moon-yoga-and-sound-healing-with-p
 apa-guru-and-friends/
SUMMARY:Full Moon Yoga and Sound Healing with Papa Guru and Friends
DESCRIPTION:Full Moon Yoga and Sound Healing with Papa Guru and Friends inv
 ites participants to a transformative evening at the InterContinental Miam
 i\, an IHG Hotel. This monthly event harnesses the unique energy of the fu
 ll moon\, with each session centered around a specific theme. For October\
 , attendees will celebrate the Hunter's Full Moon\, a time traditionally a
 ssociated with gathering and preparing for winter.\n\nLed by the experienc
 ed Papa Guru\, the evening begins with a calming yoga practice designed to
  align the body and spirit with the lunar energy. Following the yoga sessi
 on\, participants will be immersed in a sound healing experience facilitat
 ed by one of the skilled sound healers in attendance. Together\, these pra
 ctices aim to cultivate a profound sense of tranquility and equilibrium.\n
 \nThis gathering offers a special chance to connect deeply with oneself an
 d the cosmos. Participants are encouraged not to miss this unique opportun
 ity for rejuvenation and reflection. Join us under the full moon for a nig
 ht of healing and harmony!\n\nGET TICKETS\n
ATTACH;FMTTYPE=image/jpeg:https://breathemiami.us/wp-content/uploads/2024/
 10/Full-Moon-Yoga-and-Sound-Healing-with-Papa-Guru-and-Friends.jpg
CATEGORIES:Wellness Events
LOCATION:InterContinental Miami\, 100 Chopin Plaza\, Miami\, Florida\, 3313
 1\, FL\, United States
X-APPLE-STRUCTURED-LOCATION;VALUE=URI;X-ADDRESS=100 Chopin Plaza\, Miami\, 
 Florida\, 33131\, FL\, United States;X-APPLE-RADIUS=100;X-TITLE=InterConti
 nental Miami:geo:0,0
END:VEVENT
BEGIN:VTIMEZONE
TZID:America/New_York
X-LIC-LOCATION:America/New_York
BEGIN:STANDARD
DTSTART:20241103T010000
TZOFFSETFROM:-0400
TZOFFSETTO:-0500
TZNAME:EST
END:STANDARD
END:VTIMEZONE
END:VCALENDAR