BEGIN:VCALENDAR
VERSION:2.0
PRODID:-//wp-events-plugin.com//7.2.3.1//EN
TZID:America/New_York
X-WR-TIMEZONE:America/New_York
BEGIN:VEVENT
UID:1156@breathemiami.us
DTSTART;TZID=America/New_York:20241116T190000
DTEND;TZID=America/New_York:20241116T203000
DTSTAMP:20241023T105502Z
URL:https://breathemiami.us/events/full-moon-with-michi-2/
SUMMARY:Full Moon with Michi
DESCRIPTION:Step into a magical evening of transformation under the full mo
 on at The Vegan Marie with Michi\, our spiritual guide and healer. This ce
 lestial gathering invites you to cleanse your energy\, heal your spirit\, 
 and detox your body in a nurturing and supportive space.\n\nMichi will lea
 d the group through a powerful full moon ritual\, guiding you to harness t
 he moon's energy for deep healing and personal growth. Expect a night fill
 ed with intention setting\, spiritual connection\, and renewal. Whether yo
 u're coming with friends or solo\, all are welcome to join in this sacred 
 experience.\n\nBring an open heart\, and a desire for transformation\, and
  let the moonlight empower your journey forward. It’s time to channel lu
 nar energy into every aspect of your life and move into alignment with you
 r highest self.\n\nWhat to Expect:\n\n 	Energy Cleansing: Michi will guide
  a cleansing ritual to release negativity and stagnant energy\, preparing 
 you for spiritual renewal.\n 	Healing &amp\; Connection: Engage in practic
 es designed to heal the body\, mind\, and spirit while connecting with lik
 e-minded individuals in a safe and supportive environment.\n 	Detox &amp\;
  Rejuvenation: Learn holistic ways to detox the body and enhance your over
 all well-being as part of the moon’s natural cycle.\n\nBring your friend
 s\, or come alone to experience the power of community\, healing\, and moo
 n magic. Let this full moon be the start of something beautiful in your li
 fe!\n\nGET TICKETS\n
ATTACH;FMTTYPE=image/jpeg:https://breathemiami.us/wp-content/uploads/2024/
 10/Full-Moon-with-Michi.jpg
CATEGORIES:Wellness Events
LOCATION:The Vegan Marie\, 274 Northwest 54th Street Miami\, Miami\, Florid
 a\, 33127\, United States\, United States
X-APPLE-STRUCTURED-LOCATION;VALUE=URI;X-ADDRESS=274 Northwest 54th Street M
 iami\, Miami\, Florida\, 33127\, United States\, United States;X-APPLE-RAD
 IUS=100;X-TITLE=The Vegan Marie:geo:0,0
END:VEVENT
BEGIN:VTIMEZONE
TZID:America/New_York
X-LIC-LOCATION:America/New_York
BEGIN:STANDARD
DTSTART:20241103T010000
TZOFFSETFROM:-0400
TZOFFSETTO:-0500
TZNAME:EST
END:STANDARD
END:VTIMEZONE
END:VCALENDAR