BEGIN:VCALENDAR
VERSION:2.0
PRODID:-//wp-events-plugin.com//7.2.3.1//EN
TZID:America/New_York
X-WR-TIMEZONE:America/New_York
BEGIN:VEVENT
UID:530@breathemiami.us
DTSTART;TZID=America/New_York:20240621T193000
DTEND;TZID=America/New_York:20240621T210000
DTSTAMP:20240609T014757Z
URL:https://breathemiami.us/events/full-moon-sound-and-social/
SUMMARY:Full Moon Sound and Social
DESCRIPTION:Join Kanekshun for the monthly Full Moon Sound &amp\; Social ev
 ent\, this time in celebration of the Strawberry Moon. As the days grow lo
 nger and the temperatures rise\, this season is known for yielding the rip
 est fruits. The Strawberry Moon invites introspection\, encouraging gratit
 ude\, the celebration of life’s sweetest moments\, and the embrace of si
 mple joys.\nAn Immersive Experience\nAttendees will tune in using noise-ca
 nceling headphones\, immersing themselves in an experience that focuses on
  the sensations within the body\, enhanced by meaningful beats and sounds.
  This meditative journey aims to connect you deeply with the present momen
 t\, fostering a sense of inner peace and joy.\nEvent Highlights\n\n 	Medit
 ation &amp\; Breath-Work: Begin with calming meditation and breath-work ex
 ercises to center the mind and body.\n 	Immersive Sound Bath: Experience a
  transformative sound bath designed to relax and rejuvenate.\n 	Mindful Mo
 vement: Engage in gentle\, mindful movement to enhance your physical and m
 ental well-being.\n 	Take Home Mantra Card: Receive a mantra card to conti
 nue the practice of mindfulness and positivity at home.\n 	Individual Esse
 ntial Oil: Enjoy a personalized essential oil to deepen the sensory experi
 ence.\n 	Closing Elixir: Conclude the event by connecting with others whil
 e sipping on specially curated full moon elixirs.\n\nConnect and Celebrate
 \nAfter the immersive session\, guests are invited to socialize and connec
 t\, reflecting on the experience while enjoying the curated full moon elix
 irs. This gathering not only offers a unique meditative journey but also f
 osters community and connection\, making it a truly holistic and enriching
  event.\n\nCelebrate the Strawberry Moon with Kanekshun\, and indulge in a
  night of inner reflection\, sensory immersion\, and communal joy.\n\nGET 
 TICKETS\n
ATTACH;FMTTYPE=image/jpeg:https://breathemiami.us/wp-content/uploads/2024/
 06/Full-Moon-Sound-and-Social.jpg
CATEGORIES:Mindfulness Events,Wellness Events
LOCATION:1 Hotel South Beach\, 2341 Collins Avenue Miami Beach\, Miami\, Fl
 orida\, 33139\,  FL \, United States
X-APPLE-STRUCTURED-LOCATION;VALUE=URI;X-ADDRESS=2341 Collins Avenue Miami B
 each\, Miami\, Florida\, 33139\,  FL \, United States;X-APPLE-RADIUS=100;X
 -TITLE=1 Hotel South Beach:geo:0,0
END:VEVENT
BEGIN:VTIMEZONE
TZID:America/New_York
X-LIC-LOCATION:America/New_York
BEGIN:DAYLIGHT
DTSTART:20240310T030000
TZOFFSETFROM:-0500
TZOFFSETTO:-0400
TZNAME:EDT
END:DAYLIGHT
END:VTIMEZONE
END:VCALENDAR