BEGIN:VCALENDAR
VERSION:2.0
PRODID:-//wp-events-plugin.com//7.2.3.1//EN
TZID:America/New_York
X-WR-TIMEZONE:America/New_York
BEGIN:VEVENT
UID:1220@breathemiami.us
DTSTART;TZID=America/New_York:20250212T180000
DTEND;TZID=America/New_York:20250212T193000
DTSTAMP:20250205T185039Z
URL:https://breathemiami.us/events/full-moon-sound-and-social-2/
SUMMARY:Full Moon Sound and Social
DESCRIPTION:February’s Full Moon in Virgo\, also known as the Snow Moon\,
  invites deep reflection and self-liberation. This celestial phase highlig
 hts themes of perfectionism\, self-worth\, and acceptance\, encouraging pa
 rticipants to release fears of imperfection and embrace their brilliance. 
 It is an opportunity to shed limiting beliefs and step boldly into persona
 l empowerment.\n\nHosted at Tala Beach\, 1 Hotel South Beach\, this immers
 ive experience blends meditation\, mindful movement\, and sound healing to
  foster inner transformation. Guests will tune in using noise-canceling he
 adphones\, allowing the mind to quiet and the body to fully absorb the hea
 ling resonance of curated beats and sounds. The evening culminates in a so
 cial gathering\, where attendees can connect over handcrafted full moon-in
 spired mocktails.\nEvent Highlights:\n✅ Guided Meditation &amp\; Breathw
 ork\n✅ Immersive Sound Bath with Noise-Canceling Headphones\n✅ Mindful
  Movement to Awaken the Body\n✅ Personalized Mantra Card &amp\; Essentia
 l Oil Gift\n✅ Closing Full Moon Mocktail Social\n\nEvent Details:\n📍 
 Location: Tala Beach\, 1 Hotel South Beach\n🕗 Experience begins promptl
 y at 8:00 PM (arrive on time to honor the space)\n🎟️ Complimentary fo
 r hotel guests &amp\; members (21+)\, subject to availability. Secure your
  spot via concierge or email 1SB.Marketing@1hotels.com\n\nPlease Note:\n\n
  	No refunds or ticket transfers.\n 	By attending\, you consent to photogr
 aphy and video recordings for promotional use.\n\nStep into the lunar ener
 gy\, release what no longer serves you\, and embrace your worth. ✨🌕\n
 \n📲 Follow us: @1hotel.southbeach | @kanekshun\n\nGET TICKETS\n
ATTACH;FMTTYPE=image/jpeg:https://breathemiami.us/wp-content/uploads/2025/
 02/Full-Moon-Sound-and-Social.jpeg
CATEGORIES:Wellness Events
LOCATION:Ocean Terrace at 1 Hotel South Beach\, 2341 Collins Avenue Miami B
 each\,\, Miami Beach\,\, FL\, 33139 \, United States
X-APPLE-STRUCTURED-LOCATION;VALUE=URI;X-ADDRESS=2341 Collins Avenue Miami B
 each\,\, Miami Beach\,\, FL\, 33139 \, United States;X-APPLE-RADIUS=100;X-
 TITLE=Ocean Terrace at 1 Hotel South Beach:geo:0,0
END:VEVENT
BEGIN:VTIMEZONE
TZID:America/New_York
X-LIC-LOCATION:America/New_York
BEGIN:STANDARD
DTSTART:20241103T010000
TZOFFSETFROM:-0400
TZOFFSETTO:-0500
TZNAME:EST
END:STANDARD
END:VTIMEZONE
END:VCALENDAR