BEGIN:VCALENDAR
VERSION:2.0
PRODID:-//wp-events-plugin.com//7.2.3.1//EN
TZID:America/New_York
X-WR-TIMEZONE:America/New_York
BEGIN:VEVENT
UID:532@breathemiami.us
DTSTART;TZID=America/New_York:20240620T190000
DTEND;TZID=America/New_York:20240620T210000
DTSTAMP:20240609T020017Z
URL:https://breathemiami.us/events/full-moon-cacao-sound-healing-ceremony/
SUMMARY:Full Moon Cacao & Sound Healing Ceremony
DESCRIPTION:Immerse yourself in the enchantment of the Strawberry Moon at o
 ur Full Moon Cacao &amp\; Sound Healing Ceremony. This mystical experience
  combines guided breathwork and the ancient tradition of savoring cacao\, 
 a revered elixir sourced from the indigenous Bri Bri tribes of Costa Rica.
 \nDiscover the Harmonious Synergy of Cacao and Breathwork\nOften hailed as
  the food of the Gods\, cacao is celebrated for its heart-opening attribut
 es. As participants partake in this potent elixir\, a safe space is create
 d for emotional release\, heightened sensory perception\, and profound con
 nections with oneself and the community. Paired with breathwork techniques
 \, which involve deliberate manipulation of breath to influence energetic 
 states\, this practice facilitates deep relaxation\, clarity\, and spiritu
 al awakening.\nHarness the Power of the Strawberry Moon\nUnder the luminou
 s full moon of June\, participants harness the transformative potential of
  this celestial event. The Strawberry Moon represents a cosmic call to act
 ion\, urging growth\, evolution\, and reassessment of life journeys. It pr
 ompts reevaluation of the intentions set during the New Moon in Capricorn 
 last January. As participants savor the heart-expanding properties of the 
 ancient cacao and activate consciousness through breathwork\, they open th
 eir hearts to receive the universe's abundant blessings and reenergize the
  intentions set at the beginning of the year.\nEmbrace the Heart-Opening J
 ourney\nThis sacred ritual invites participants to embrace the heart-openi
 ng properties of the esteemed plant medicine\, activating the connection b
 etween mind\, body\, and spirit. Through the art of therapeutic journaling
 \, participants document their journey\, capturing insights\, recalibratio
 ns\, and intuitive downloads received during the ritual.\nRejuvenate with 
 Mindful Movement and Sound Healing\nFollowing the introspective activities
 \, participants transition to mindful movement to release any stagnant ene
 rgy from their bodies\, activating vitality and a sense of rejuvenation. T
 he ceremony concludes with a soothing sound bath\, restoring balance to th
 e nervous system and reconnecting with the heart.\n\nThis ceremony offers 
 more than a sensory experience\; it is a spiritual journey that connects p
 articipants with their hearts\, the earth\, and the cosmos\, empowering th
 em to activate their full potential. Join us under the Strawberry Moon for
  a transformative evening of cacao\, breathwork\, and sound healing.\n\nGE
 T TICKETS\n
ATTACH;FMTTYPE=image/jpeg:https://breathemiami.us/wp-content/uploads/2024/
 06/Full-Moon-Cacao-Sound-Healing-Ceremony.jpg
LOCATION:198 NW 79th St\, 198 Northwest 79th Street Miami\, Miami Beach\, F
 L\, 33150\, United States
X-APPLE-STRUCTURED-LOCATION;VALUE=URI;X-ADDRESS=198 Northwest 79th Street M
 iami\, Miami Beach\, FL\, 33150\, United States;X-APPLE-RADIUS=100;X-TITLE
 =198 NW 79th St:geo:0,0
END:VEVENT
BEGIN:VTIMEZONE
TZID:America/New_York
X-LIC-LOCATION:America/New_York
BEGIN:DAYLIGHT
DTSTART:20240310T030000
TZOFFSETFROM:-0500
TZOFFSETTO:-0400
TZNAME:EDT
END:DAYLIGHT
END:VTIMEZONE
END:VCALENDAR