BEGIN:VCALENDAR
VERSION:2.0
PRODID:-//wp-events-plugin.com//7.2.3.1//EN
TZID:America/New_York
X-WR-TIMEZONE:America/New_York
BEGIN:VEVENT
UID:68@breathemiami.us
DTSTART;TZID=America/New_York:20230928T190000
DTEND;TZID=America/New_York:20230928T210000
DTSTAMP:20240907T182307Z
URL:https://breathemiami.us/events/full-moon-beach-sound-healing/
SUMMARY:Full Moon Beach Sound Healing
DESCRIPTION:Enjoy the Human Mandala edition of the most powerful sound heal
 ing ceremony on the beach with the South Beach Sound Healing Orchestra.\nT
 he Tierra Santa Healing House &amp\; Modern ŌM present Jared Bistrong and
  The South Beach Sound Healing Orchestra. Join us in community as we creat
 e a powerful Full Moon Sound Healing Ceremony that will include movement\,
  breathwork\, drum and dance\, and a powerful Synchronized Sound Bath by t
 he famous South Beach Sound Healing Orchestra. We'll be meeting on the Bea
 ch at 6:30pm. The meditation starts at 7pm. Bring a towel\, mat or blanket
  and be ready to move and relax into a deep sound meditation.\n\n\nGET TIC
 KETS\n\n\nWho:\nJared Bistrong &amp\; The South Beach Sound Healing Orches
 tra. A Miami native\, Jared Bistrong is a teacher\, multi-instrumentalist\
 , sound healer\, and founder of the Miami Sound Institute\; he provides So
 und Healing Courses &amp\; Certifications at Modern ŌM and his students m
 ake up make-up the South Beach Sound Healing Orchestra which has become So
 uth Florida's premier sound healing experience. They have been featured in
  dozens of big music festivals and wellness events and can be experienced 
 every Full Moon at Faena Hotel and every Friday morning on south beach for
  a sunrise sound healing. https://www.jaredbistrong.com/southbeachsoundhea
 lingorchestra\nParking:\nValet parking at Faena Hotel or municipal lot 1 b
 lock north of Faena.\nBring:\nA towel\, mat or blanket &amp\; refillable w
 ater bottle and an open heart.\nTickets:\nRegistration is Early Bird or Ge
 neral Admission\nExclusive Rates for Members:\nClick to explore the benefi
 ts and join a plan.\n\n10% off this session with ŌMIE PLAN ($49 per year)
 \n10% off this session with PRACTICE PLAN ($99 per month)\nThis session is
  included with ACCESS PLAN ($199 per month)\nMindful Miles™️:\nGet rew
 arded for your spiritual practice. All Members are enrolled into our “fr
 equent flier” program for our Miami events.\n\n 	Every 10MM you earn\, r
 eceive a reward to celebrate your practice\n 	Every 25MM you earn\, receiv
 e a MM status upgrade\, which comes with valuable perks\n\nOnline Resource
 s:\nIf you cannot join us in person\, we have the following online resourc
 es available.\n\n 	Modern Medi Club - a friendly donation-based online med
 itation studio with classes daily at 8am\, 10am\, and 8pm. This online stu
 dio is FREE to join and can be joined separately from Miami plans.\n 	Cush
 ion Crawl On Demand - 500 videos that were recorded over a period of 3 yea
 rs by 120+ world-class facilitators. Access to this Content Library is giv
 en with all Miami plans.\n\nFollow us: Instagram | TikTok | Miami Telegram
 \nABOUT MODERN ŌM\nModern ŌM has been connecting community to world-cla
 ss spiritual wellness programs since 2016. Our offerings include 30+ Miami
  event monthly\, retreats\, trainings\, online meditations via the Modern 
 Medi Club\, and branded merchandise.\n\nConsider us your resource for spir
 itual wellness. We support an ever-evolving community of entrepreneurs\, p
 rofessionals\, and creatives that prioritize their spiritual well-being. J
 oin us in Miami and beyond.\nCOMMUNITY PRAISE\n"I love the community\, I l
 ove the vibe of Modern ŌM!!" - Seema\n\n"I highly recommend this membersh
 ip - you will not regret it!" - Nadine\n\n“You can really tell Modern Ō
 M truly truly cares about its community and the conscious evolution of its
  members. Thank you!” - Alessandra\n\n[embed]https://vimeo.com/749702582
 [/embed]\n\n[gallery link="file" columns="4" ids="2688\,2689\,2690\,2691\,
 2692\,2693\,2694"]\n\n\n\n
ATTACH;FMTTYPE=image/jpeg:https://breathemiami.us/wp-content/uploads/2023/
 09/full-moon-beach-sound-healing-featured.jpeg
CATEGORIES:Mindfulness Events,Things To Do,Wellness Events
LOCATION:Faena Hotel\, 3201 Collins Avenue\, Miami Beach\, FL\, 33140\, Uni
 ted States
X-APPLE-STRUCTURED-LOCATION;VALUE=URI;X-ADDRESS=3201 Collins Avenue\, Miami
  Beach\, FL\, 33140\, United States;X-APPLE-RADIUS=100;X-TITLE=Faena Hotel
 :geo:0,0
END:VEVENT
BEGIN:VTIMEZONE
TZID:America/New_York
X-LIC-LOCATION:America/New_York
BEGIN:DAYLIGHT
DTSTART:20230312T030000
TZOFFSETFROM:-0500
TZOFFSETTO:-0400
TZNAME:EDT
END:DAYLIGHT
END:VTIMEZONE
END:VCALENDAR