BEGIN:VCALENDAR
VERSION:2.0
PRODID:-//wp-events-plugin.com//7.2.3.1//EN
TZID:America/New_York
X-WR-TIMEZONE:America/New_York
BEGIN:VEVENT
UID:1166@breathemiami.us
DTSTART;TZID=America/New_York:20241115T183000
DTEND;TZID=America/New_York:20241115T203000
DTSTAMP:20241023T125415Z
URL:https://breathemiami.us/events/full-moon-beach-sound-healing-experienc
 e-with-silent-headphones/
SUMMARY:Full Moon Beach Sound Healing Experience with Silent Headphones
DESCRIPTION:Join Jared Bistrong\, Lex Schmidt\, and Sofi Dias for an immers
 ive Full Moon Beach Sound Healing experience featuring silent headphones. 
 This transformative event begins with soothing Full Moon meditation elixir
 s provided by Orion Herbs. Each participant will don a set of silent headp
 hones to embark on a guided meditation journey\, complemented by movement 
 and breathwork sessions accompanied by live drumming.\n\nAs the evening un
 folds\, participants will lie down and delve into a unique meditative soun
 dscape that features an enchanting blend of ancient flutes\, hand-made did
 geridoos\, African harps (ngoni)\, shamanic drumming\, singing bowls\, gon
 gs\, and dueling handpans. This celestial voyage is designed to leave atte
 ndees feeling rejuvenated\, balanced\, and blissfully present.\n\nThe gath
 ering will take place on the beach at 6:00 PM\, with the meditation commen
 cing at 6:30 PM. Attendees are encouraged to bring a towel\, mat\, or blan
 ket and prepare for a blend of movement and deep relaxation during the sou
 nd meditation.\n\nEvent Details:\n\n 	Who: Jared Bistrong\, founder of the
  Miami Sound Institute and the South Beach Sound Healing Orchestra\; Lex S
 chmidt\, a Berklee-trained musician and local percussionist\; and Sofi Dia
 s\, a renowned handpan player\, composer\, and educator.\n 	Where: Faena H
 otel\, 3201 Collins Avenue\, Miami Beach.\n 	Parking: Valet parking is ava
 ilable at Faena Hotel\, or attendees may use the municipal lot located one
  block north.\n 	What to Bring: A towel\, mat or blanket\, a refillable wa
 ter bottle\, and an open heart.\n 	Tickets: Early Bird and General Admissi
 on options available.\n\nAbout Modern ŌM: Since 2015\, Modern ŌM has bee
 n at the forefront of connecting the community with top-tier spiritual wel
 lness programs. With over 20 monthly events in Miami\, retreats\, training
 s\, and branded merchandise\, Modern ŌM supports a dynamic community of e
 ntrepreneurs\, professionals\, and creatives focused on enhancing their sp
 iritual well-being.\n\nCommunity Praise:\n\n 	“I love the community\; I 
 love the vibe of Modern ŌM!” - Seema\n 	“I highly recommend this memb
 ership—you will not regret it!” - Nadine\n 	“Modern ŌM truly cares 
 about its community and the conscious evolution of its members. Thank you!
 ” - Alessandra\n\nCome be part of this unique experience and connect wit
 h your inner self under the radiant glow of the full moon.\n\nGET TICKETS\
 n
ATTACH;FMTTYPE=image/jpeg:https://breathemiami.us/wp-content/uploads/2024/
 10/Full-Moon-Beach-Sound-Healing-Experience-with-Silent-Headphones.jpg
CATEGORIES:Wellness Events
LOCATION:Faena Hotel\, 3201 Collins Ave\, Miami Beach\, Florida\, 33140\, F
 L\, United States
X-APPLE-STRUCTURED-LOCATION;VALUE=URI;X-ADDRESS=3201 Collins Ave\, Miami Be
 ach\, Florida\, 33140\, FL\, United States;X-APPLE-RADIUS=100;X-TITLE=Faen
 a Hotel:geo:0,0
END:VEVENT
BEGIN:VTIMEZONE
TZID:America/New_York
X-LIC-LOCATION:America/New_York
BEGIN:STANDARD
DTSTART:20241103T010000
TZOFFSETFROM:-0400
TZOFFSETTO:-0500
TZNAME:EST
END:STANDARD
END:VTIMEZONE
END:VCALENDAR