BEGIN:VCALENDAR
VERSION:2.0
PRODID:-//wp-events-plugin.com//7.2.3.1//EN
TZID:America/New_York
X-WR-TIMEZONE:America/New_York
BEGIN:VEVENT
UID:1219@breathemiami.us
DTSTART;TZID=America/New_York:20250212T090000
DTEND;TZID=America/New_York:20250212T103000
DTSTAMP:20250205T184420Z
URL:https://breathemiami.us/events/from-longevity-principles-to-daily-bioh
 acks/
SUMMARY:From Longevity Principles to Daily Biohacks
DESCRIPTION:The path to a longer\, healthier life is no longer a mystery. G
 rounded in the timeless wisdom of Traditional Chinese Medicine and the Tao
  of Longevity\, modern science now confirms that optimal health and vitali
 ty stem from mastering four essential pillars: Movement &amp\; Flow\, Nour
 ishment &amp\; Healing Eating\, Breathing for Stress Management\, and Vita
 l Force/Sexual Energy Activation. By integrating these principles into dai
 ly life\, individuals can harness powerful\, scientifically-backed biohack
 s to enhance longevity and well-being.\n\nThe Imbody Wellness Institute\, 
 in collaboration with The Hideout Café\, presents The Longevity Series—
 a transformative workshop series designed to bridge ancient longevity prac
 tices with contemporary wellness strategies. Participants will embark on a
  four-week journey\, exploring practical tools that seamlessly integrate i
 nto daily routines\, fostering enhanced physical\, mental\, and emotional 
 health.\n\nEach Wednesday morning\, attendees will immerse themselves in a
  dynamic learning environment that blends practical knowledge with hands-o
 n application. Led by Bella Bablumian\, M.A.—a holistic nutritional cons
 ultant\, fitness expert\, and behavioral change specialist—each session 
 will introduce powerful longevity techniques and translate them into easy\
 , actionable steps.\nWorkshop Breakdown:\n🔹 Week 1 – NOURISH (Feb 12)
 :\nHow do proper nourishment and toxin cleansing reverse chronic condition
 s and revitalize the body? Learn the secrets of healing foods and detoxifi
 cation.\n\n🔹 Week 2 – MOVE (Feb 19):\nWhat is the optimal way to exer
 cise for longevity? Discover movement techniques that support brain functi
 on\, mood balance\, and sustainable weight management.\n\n🔹 Week 3 – 
 BREATHE (Feb 26):\nCan just 10 minutes of mindful breathing prevent anxiet
 y and boost immunity? Explore breathwork practices that regulate stress\, 
 enhance focus\, and promote inner calm.\n\n🔹 Week 4 – SENSE (Mar 5):\
 nHow can sexual energy be harnessed as the elixir of youth? Understand the
  connection between sensuality\, energy cultivation\, and longevity benefi
 ts.\nWho Should Attend?\nThis series welcomes wellness seekers\, health en
 thusiasts\, and anyone eager to adopt proven methods for increased vitalit
 y and longevity. Whether new to these concepts or looking to deepen an exi
 sting practice\, participants will leave with practical techniques to impl
 ement immediately.\nWhy Join?\n✔ Gain science-backed longevity insights 
 blended with ancient wisdom\n✔ Experience guided exercises and real-life
  applications\n✔ Connect with a like-minded wellness community\n✔ Enjo
 y the warm\, inviting atmosphere of The Hideout Café\n✔ Receive a disco
 unt when signing up for the full series\n\nAttendees are encouraged to wea
 r comfortable clothing for movement-based practices. While each session is
  designed to stand alone\, participating in the full series ensures deeper
  integration of these life-enhancing principles.\n\nGET TICKETS\n
ATTACH;FMTTYPE=image/jpeg:https://breathemiami.us/wp-content/uploads/2025/
 02/From-Longevity-Principles-to-Daily-Biohacks.jpeg
CATEGORIES:Wellness Events
LOCATION:The Hideout Café by Team Vinchay\, 425 Northeast 22nd Street ##20
 3\, Miami\, Florida\, 33137 \, FL\, United States
X-APPLE-STRUCTURED-LOCATION;VALUE=URI;X-ADDRESS=425 Northeast 22nd Street #
 #203\, Miami\, Florida\, 33137 \, FL\, United States;X-APPLE-RADIUS=100;X-
 TITLE=The Hideout Café by Team Vinchay:geo:0,0
END:VEVENT
BEGIN:VTIMEZONE
TZID:America/New_York
X-LIC-LOCATION:America/New_York
BEGIN:STANDARD
DTSTART:20241103T010000
TZOFFSETFROM:-0400
TZOFFSETTO:-0500
TZNAME:EST
END:STANDARD
END:VTIMEZONE
END:VCALENDAR