BEGIN:VCALENDAR
VERSION:2.0
PRODID:-//wp-events-plugin.com//7.2.3.1//EN
TZID:America/New_York
X-WR-TIMEZONE:America/New_York
BEGIN:VEVENT
UID:1004@breathemiami.us
DTSTART;TZID=America/New_York:20241101T070000
DTEND;TZID=America/New_York:20241101T081500
DTSTAMP:20241005T135546Z
URL:https://breathemiami.us/events/friday-morning-releaseness-yin-yoga-sou
 nd-bath-at-miami-beach/
SUMMARY:Friday Morning ReleaseNESS - Yin Yoga & Sound Bath at Miami Beach
DESCRIPTION:Nesli invites participants to a peaceful and rejuvenating Sunri
 se Yin Yoga &amp\; Sound Bath session on the picturesque shores of Miami B
 each. This morning experience is designed to guide attendees into a deep s
 tate of relaxation through the calming practice of Yin Yoga\, accompanied 
 by the soothing sounds of Tibetan and crystal singing bowls\, as well as c
 himes. The harmonious sound bath enhances the meditative quality of the yo
 ga practice\, promoting mental clarity and emotional balance.\n\nYin Yoga\
 , with its focus on targeting the body's connective tissues\, helps improv
 e flexibility\, circulation\, and overall well-being. The slow-paced natur
 e of the practice encourages a deeper connection between mind and body\, a
 llowing participants to unwind from daily stress and embrace stillness. To
  learn more about the benefits of both Yin Yoga and sound bath practices\,
  visit Nesli.TV.\n\nWhat to Bring:\n\n 	A towel (to use the sand as natura
 l cushioning instead of a yoga mat)\n 	Comfortable\, loose clothing that a
 llows freedom of movement (avoid tight leggings)\n 	Water for hydration\n 
 	A swimsuit\, bikini\, or shorts for an optional swim after the session\n\
 nImportant Details:\n\n 	Location: 79th Street\, Miami Beach. Please check
  the map for the exact location.\n 	Questions or Private Sessions: For inq
 uiries or to book private sessions\, text Nesli at 646-494-2866.\n 	RSVP: 
 Advance registration is required. If no one signs up ahead of time\, the e
 vent will be canceled. Walk-ins cannot be accommodated\, so please confirm
  your attendance via text.\n 	Join the Sound Bath Without Yoga: Participan
 ts who wish to enjoy just the sound bath experience can visit https://nesl
 i.tv/sound for more details.\n\nTerms &amp\; Conditions:\n\n 	Acceptance o
 f Terms: By purchasing a ticket\, participants acknowledge and agree to th
 e terms and conditions.\n 	Health &amp\; Safety: Attendees are responsible
  for their own health and safety during the event. It is recommended to co
 nsult a healthcare provider if there are any medical concerns before parti
 cipating. The organizer assumes no liability for any health issues or inju
 ries that may arise.\n 	Liability Waiver: By attending\, participants agre
 e to waive any claims against the event organizer for injury or damages th
 at may occur.\n 	Rain Policy: If the event is disrupted by rain\, it will 
 be rescheduled. No refunds will be issued. Should there be a forecast of m
 ore than 50% chance of rain one hour prior to the event\, it will be postp
 oned. All tickets will be honored on the rescheduled date.\n\nFor further 
 information or any questions\, participants are encouraged to reach out. N
 esli looks forward to sharing this special morning of healing and growth\,
  helping everyone embrace the full potential of the mind\, body\, and spir
 it.\n\nWith love\,\nNesli\n\nGET TICKETS\n
ATTACH;FMTTYPE=image/jpeg:https://breathemiami.us/wp-content/uploads/2024/
 10/Friday-Morning-ReleaseNESS-Yin-Yoga-Sound-Bath-at-Miami-Beach.jpg
CATEGORIES:Wellness Events
LOCATION:79th Street\, North Shore Park Beach\, Miami\, Florida\, 33132\,  
 FL \, United States
X-APPLE-STRUCTURED-LOCATION;VALUE=URI;X-ADDRESS=North Shore Park Beach\, Mi
 ami\, Florida\, 33132\,  FL \, United States;X-APPLE-RADIUS=100;X-TITLE=79
 th Street:geo:0,0
END:VEVENT
BEGIN:VTIMEZONE
TZID:America/New_York
X-LIC-LOCATION:America/New_York
BEGIN:DAYLIGHT
DTSTART:20240310T030000
TZOFFSETFROM:-0500
TZOFFSETTO:-0400
TZNAME:EDT
END:DAYLIGHT
END:VTIMEZONE
END:VCALENDAR