BEGIN:VCALENDAR
VERSION:2.0
PRODID:-//wp-events-plugin.com//7.2.3.1//EN
TZID:America/New_York
X-WR-TIMEZONE:America/New_York
BEGIN:VEVENT
UID:692@breathemiami.us
DTSTART;TZID=America/New_York:20240819T190000
DTEND;TZID=America/New_York:20240819T203000
DTSTAMP:20240806T034620Z
URL:https://breathemiami.us/events/free-full-moon-ceremony-yoga-meditation
 -sound-bath/
SUMMARY:FREE Full Moon Ceremony\, Yoga\, Meditation\, Sound Bath
DESCRIPTION:Join the community on Monday\, August 19th\, 2024\, for a speci
 al Full Moon Ceremony at South Pointe Beach. This evening is dedicated to 
 harnessing the amplified energy of the full moon to set intentions and ele
 vate our collective vibration to higher levels of love and consciousness.\
 nEvent Highlights\n\n 	Slow Flow Yoga &amp\; Breathwork: Begin the evening
  with a gentle yoga session designed to align your breath with movement\, 
 grounding your body and calming your mind.\n 	Meditation &amp\; Sound Bath
 : Immerse yourself in a meditative journey enhanced by the soothing sounds
  of a sound bath\, featuring special guest @healthyme.lovee and others.\n\
 nEvent Details\n\n 	Date: August 19th\, 2024\n 	Time: 7:00 PM\, starting w
 ith Slow Flow Yoga\n 	Location: South Pointe Beach\, near the 1st lifeguar
 d tower (red &amp\; white)\n 	Parking: Arrive early to secure parking\n\nW
 hat to Bring\nTo ensure a comfortable and enriching experience\, please br
 ing:\n\n 	A mat or towel\n 	Warm clothes or a blanket\n 	Water\n 	Sacred i
 tems (such as crystals\, mala beads\, or pictures) to charge with the soun
 ds and the moon’s energy\n\nWhy Attend?\nParticipating in this Full Moon
  Ceremony offers a unique opportunity to connect deeply with yourself and 
 the community\, setting powerful intentions under the moonlit sky. The com
 bination of yoga\, meditation\, and sound healing creates a holistic exper
 ience that nurtures your mind\, body\, and spirit.\n\nCome with an open he
 art and leave feeling elevated\, connected\, and renewed. We look forward 
 to sharing this transformative evening with you. Reserve your spot and pre
 pare for a night of harmony and healing.\n\nGET TICKETS\n
ATTACH;FMTTYPE=image/jpeg:https://breathemiami.us/wp-content/uploads/2024/
 08/FREE-Full-Moon-Ceremony-Yoga-Meditation-Sound-Bath.jpg
CATEGORIES:Mindfulness Events,Things To Do,Wellness Events,Yoga Events
LOCATION:South Pointe Beach\, 1 Washington Ave South Pointe Beach\, Miami\,
   United States\, 33139\, FL \, United States
X-APPLE-STRUCTURED-LOCATION;VALUE=URI;X-ADDRESS=1 Washington Ave South Poin
 te Beach\, Miami\,  United States\, 33139\, FL \, United States;X-APPLE-RA
 DIUS=100;X-TITLE=South Pointe Beach:geo:0,0
END:VEVENT
BEGIN:VTIMEZONE
TZID:America/New_York
X-LIC-LOCATION:America/New_York
BEGIN:DAYLIGHT
DTSTART:20240310T030000
TZOFFSETFROM:-0500
TZOFFSETTO:-0400
TZNAME:EDT
END:DAYLIGHT
END:VTIMEZONE
END:VCALENDAR