BEGIN:VCALENDAR
VERSION:2.0
PRODID:-//wp-events-plugin.com//7.2.3.1//EN
TZID:America/New_York
X-WR-TIMEZONE:America/New_York
BEGIN:VEVENT
UID:398@breathemiami.us
DTSTART;TZID=America/New_York:20240402T190000
DTEND;TZID=America/New_York:20240402T210000
DTSTAMP:20240318T170233Z
URL:https://breathemiami.us/events/free-consult-mcallister-spa/
SUMMARY:FREE CONSULT - McAllister Spa Balayage Haircut Miami Beach
DESCRIPTION:\nUnleash Your Inner Sunbeam with a Miami Beach Balayage at McA
 llister Spa\nSunshine on your mind? Bring that Miami Beach glow to your ha
 ir with a stunning balayage transformation at McAllister Spa!\nBalayage: T
 his innovative hair coloring technique creates a natural\, sun-kissed look
  that flatters all hair types and skin tones. Unlike traditional highlight
 s\, balayage involves hand-painting color for a seamless blend that mimics
  the way the sun naturally lightens hair.\nWhy Choose McAllister Spa for Y
 our Balayage?\n\n\n 	Miami Beach Experts: Our experienced colorists in the
  heart of Miami Beach are passionate about creating customized balayage lo
 oks that enhance your natural beauty.\n 	Consultation &amp\; Collaboration
 : We believe in personalized service. During a thorough consultation\, we'
 ll discuss your hair goals\, desired shade\, and style preferences to crea
 te a balayage masterpiece tailored just for you.\n 	Masterful Techniques: 
 Our colorists are skilled in the latest balayage application methods\, ens
 uring a flawless and natural-looking result. They'll use their expertise t
 o achieve the perfect amount of dimension and light throughout your hair.\
 n 	Healthy Hair Focus: We prioritize hair health. We use top-quality\, gen
 tle color products designed to minimize damage and keep your hair looking 
 and feeling its best.\n 	Luxury Salon Experience: Relax and unwind in our 
 beautiful Miami Beach salon while our expert stylists work their magic. En
 joy a spa-like atmosphere with personalized attention and exceptional serv
 ice.\n\nThe Benefits of Balayage:\n\n\n 	Low-Maintenance Beauty: Unlike tr
 aditional highlights that require frequent touch-ups\, balayage grows out 
 beautifully and requires less frequent salon visits.\n 	Natural Dimension:
  Balayage adds subtle depth and dimension to your hair\, enhancing its nat
 ural texture and making it appear thicker and fuller.\n 	Versatility: Bala
 yage can be customized to suit any hair length\, style\, and desired level
  of contrast. Whether you want a subtle sun-kissed glow or a more dramatic
  look\, balayage can achieve it.\n 	Flattering for All: Balayage is incred
 ibly versatile and can be adapted to complement all hair types\, colors\, 
 and skin tones.\n 	Boosts Confidence: Indulge in a hair makeover that leav
 es you feeling beautiful and radiant. With a perfectly crafted balayage\, 
 you'll step out the door with renewed confidence and a touch of Miami Beac
 h sunshine in your hair.\n\nReady to Embrace Your Balayage Dream?\nContact
  McAllister Spa today to schedule a consultation with one of our Miami Bea
 ch balayage experts. We'll discuss your vision and create a personalized p
 lan to bring your hair goals to life!\nMcAllister Spa: Where Miami Beach B
 eauty Begins\n\n\n\n\nBOOK SPOTS\n\n
ATTACH;FMTTYPE=image/jpeg:https://breathemiami.us/wp-content/uploads/2024/
 03/miami-south-beach-facial-tanning-waxing-840x273-1.jpg
CATEGORIES:Wellness Events
LOCATION:McAllister Spa Miami Hair-Salon Nail-Salon South Beach\, 1301 Alto
 n Rd\, Miami Beach\, Florida\, 33139\, United States
X-APPLE-STRUCTURED-LOCATION;VALUE=URI;X-ADDRESS=1301 Alton Rd\, Miami Beach
 \, Florida\, 33139\, United States;X-APPLE-RADIUS=100;X-TITLE=McAllister S
 pa Miami Hair-Salon Nail-Salon South Beach:geo:0,0
END:VEVENT
BEGIN:VTIMEZONE
TZID:America/New_York
X-LIC-LOCATION:America/New_York
BEGIN:DAYLIGHT
DTSTART:20240310T030000
TZOFFSETFROM:-0500
TZOFFSETTO:-0400
TZNAME:EDT
END:DAYLIGHT
END:VTIMEZONE
END:VCALENDAR