BEGIN:VCALENDAR
VERSION:2.0
PRODID:-//wp-events-plugin.com//7.2.3.1//EN
TZID:America/New_York
X-WR-TIMEZONE:America/New_York
BEGIN:VEVENT
UID:758@breathemiami.us
DTSTART;TZID=America/New_York:20240914T180000
DTEND;TZID=America/New_York:20240914T210000
DTSTAMP:20240825T073001Z
URL:https://breathemiami.us/events/for-the-people-exhibit/
SUMMARY:FOR THE PEOPLE EXHIBIT
DESCRIPTION:Dive into the For the People Exhibit\, an engaging and interact
 ive showcase celebrating the extraordinary stories of everyday individuals
 . This inspiring event highlights the achievements\, struggles\, and uniqu
 e experiences of people from all walks of life.\n\nEvent Highlights:\n\n 	
 Interactive Displays: Engage with a variety of multimedia presentations th
 at bring the stories of everyday heroes to life. Through dynamic exhibits\
 , personal stories\, and immersive experiences\, attendees can gain a deep
 er appreciation for the remarkable contributions of ordinary people.\n 	In
 spiring Narratives: Discover the diverse and compelling narratives of indi
 viduals who have made significant impacts in their communities. Whether th
 rough personal triumphs\, innovative contributions\, or acts of kindness\,
  these stories are sure to resonate and motivate.\n 	Engaging Activities: 
 Participate in interactive activities that allow you to connect with the s
 tories and experiences showcased in the exhibit. From hands-on displays to
  thought-provoking discussions\, there are numerous opportunities to engag
 e and be inspired.\n\nJoin Us for a Memorable Experience\n\nThis exhibit\,
  proudly sponsored by Hilton Garden Inn Miami Brickell South\, is designed
  to celebrate and honor the unsung heroes among us. It’s a chance to rec
 ognize and appreciate the everyday people who make a difference through th
 eir actions and stories.\n\nDon’t miss this opportunity to be inspired a
 nd to celebrate the remarkable individuals who shape our world.\n\nGET TIC
 KETS\n
ATTACH;FMTTYPE=image/jpeg:https://breathemiami.us/wp-content/uploads/2024/
 08/FOR-THE-PEOPLE-EXHIBIT.jpg
CATEGORIES:Mindfulness Events,Things To Do
LOCATION:Hilton Garden Inn\, 2500 Brickell Avenue Miami\, Miami\, Florida\,
  33129\, FL\, United States
X-APPLE-STRUCTURED-LOCATION;VALUE=URI;X-ADDRESS=2500 Brickell Avenue Miami\
 , Miami\, Florida\, 33129\, FL\, United States;X-APPLE-RADIUS=100;X-TITLE=
 Hilton Garden Inn:geo:0,0
END:VEVENT
BEGIN:VTIMEZONE
TZID:America/New_York
X-LIC-LOCATION:America/New_York
BEGIN:DAYLIGHT
DTSTART:20240310T030000
TZOFFSETFROM:-0500
TZOFFSETTO:-0400
TZNAME:EDT
END:DAYLIGHT
END:VTIMEZONE
END:VCALENDAR