BEGIN:VCALENDAR
VERSION:2.0
PRODID:-//wp-events-plugin.com//7.2.3.1//EN
TZID:America/New_York
X-WR-TIMEZONE:America/New_York
BEGIN:VEVENT
UID:940@breathemiami.us
DTSTART;TZID=America/New_York:20241027T110000
DTEND;TZID=America/New_York:20241027T140000
DTSTAMP:20241002T135758Z
URL:https://breathemiami.us/events/fluffology-presents-puppy-yoga-with-rea
 l-good-rescue/
SUMMARY:Fluffology Presents: Puppy Yoga With Real Good Rescue
DESCRIPTION:Fluffology proudly presents "Puppy Yoga with Real Good Rescue\,
 " an uplifting and heartwarming experience for animal lovers and yoga enth
 usiasts alike. This unique event\, scheduled for Sunday\, October 27th\, o
 ffers two sessions of yoga led by local instructors Liza van Deventer and 
 Ali Kamen\, where participants can enjoy the company of adorable puppies.\
 n\nAttendees will not only benefit from the calming effects of yoga but al
 so experience the joy of interacting with puppies\, providing a form of "p
 uppy therapy" that brings smiles and relaxation. Each furry friend at the 
 event is available for adoption through Real Good Rescue\, making this a w
 onderful opportunity for those considering giving a rescue dog a forever h
 ome.\n\nIn addition to the puppy love\, participants will be treated to en
 ergy drinks\, refreshing water\, and a selection of yogi-inspired goodies 
 to enhance their overall experience. With limited space available for this
  in-person event\, guests are encouraged to choose their preferred session
  carefully.\n\nDon’t miss out on this delightful fusion of yoga\, wellne
 ss\, and animal companionship—reserve your spot for a morning of relaxat
 ion\, joy\, and the possibility of finding a new best friend!\n\nGET TICKE
 TS\n
ATTACH;FMTTYPE=image/jpeg:https://breathemiami.us/wp-content/uploads/2024/
 10/Fluffology-Presents-Puppy-Yoga-With-Real-Good-Rescue.jpg
CATEGORIES:Yoga Events
LOCATION:11128 Magnolia Blvd\, 11128 Magnolia Boulevard\, Los Angeles\, Cal
 ifornia\, 91601\, CA\, United States
X-APPLE-STRUCTURED-LOCATION;VALUE=URI;X-ADDRESS=11128 Magnolia Boulevard\, 
 Los Angeles\, California\, 91601\, CA\, United States;X-APPLE-RADIUS=100;X
 -TITLE=11128 Magnolia Blvd:geo:0,0
END:VEVENT
BEGIN:VTIMEZONE
TZID:America/New_York
X-LIC-LOCATION:America/New_York
BEGIN:DAYLIGHT
DTSTART:20240310T030000
TZOFFSETFROM:-0500
TZOFFSETTO:-0400
TZNAME:EDT
END:DAYLIGHT
END:VTIMEZONE
END:VCALENDAR