BEGIN:VCALENDAR
VERSION:2.0
PRODID:-//wp-events-plugin.com//7.2.3.1//EN
TZID:America/New_York
X-WR-TIMEZONE:America/New_York
BEGIN:VEVENT
UID:794@breathemiami.us
DTSTART;TZID=America/New_York:20240915T103000
DTEND;TZID=America/New_York:20240915T123000
DTSTAMP:20240826T183629Z
URL:https://breathemiami.us/events/flowglow-wellness-event/
SUMMARY:FLOW&GLOW Wellness Event
DESCRIPTION:Step into a serene oasis at the Flow &amp\; Glow Wellness Event
 \, where relaxation and rejuvenation take center stage. Hosted at Digital 
 Haus\, this event invites you to escape the daily grind and reconnect with
  your inner peace.\n\nBegin your journey with a gentle yoga flow\, designe
 d to release tension and ease you into a state of calm. As the session pro
 gresses\, transition into a glow-in-the-dark yoga experience\, where soft\
 , ambient lighting enhances your practice\, allowing your inner light to t
 ruly shine. This unique setting provides a tranquil environment perfect fo
 r deepening your connection with yourself and others.\n\nComplementing the
  yoga flow\, immerse yourself in the healing vibrations of sound therapy\,
  which will guide you into a meditative state\, soothing both mind and bod
 y. Take a moment to reflect and express your thoughts during the journalin
 g session\, an opportunity to put pen to paper and explore your inner worl
 d.\n\nThroughout the event\, the soothing scents of aromatherapy will fill
  the air\, enhancing your sensory experience and promoting relaxation. As 
 a special treat\, each participant will receive a curated goodie bag\, pac
 ked with wellness products from our sponsor brands. Inside\, you'll find h
 ealthy snacks\, refreshing beverages\, luxurious skincare items\, and calm
 ing essential oils—everything you need to continue your wellness journey
  at home.\n\nCheck-in opens at 10:30 AM\, with the first class starting pr
 omptly at 11:00 AM. Don’t miss this chance to nurture your mind\, body\,
  and spirit in a supportive and peaceful environment. Whether you’re loo
 king to recharge or simply enjoy a mindful moment\, Flow &amp\; Glow offer
 s the perfect space to do so. Come join us and let your inner light glow!\
 n\nGET TICKETS\n
ATTACH;FMTTYPE=image/jpeg:https://breathemiami.us/wp-content/uploads/2024/
 08/FLOWGLOW-Wellness-Event.jpg
CATEGORIES:Mindfulness Events,Things To Do,Wellness Events,Yoga Events
LOCATION:Digital Haus\, 2700 North Miami Avenue\, Miami\, Florida\, 33127\,
  FL\, United States
X-APPLE-STRUCTURED-LOCATION;VALUE=URI;X-ADDRESS=2700 North Miami Avenue\, M
 iami\, Florida\, 33127\, FL\, United States;X-APPLE-RADIUS=100;X-TITLE=Dig
 ital Haus:geo:0,0
END:VEVENT
BEGIN:VTIMEZONE
TZID:America/New_York
X-LIC-LOCATION:America/New_York
BEGIN:DAYLIGHT
DTSTART:20240310T030000
TZOFFSETFROM:-0500
TZOFFSETTO:-0400
TZNAME:EDT
END:DAYLIGHT
END:VTIMEZONE
END:VCALENDAR