BEGIN:VCALENDAR
VERSION:2.0
PRODID:-//wp-events-plugin.com//7.2.3.1//EN
TZID:America/New_York
X-WR-TIMEZONE:America/New_York
BEGIN:VEVENT
UID:823@breathemiami.us
DTSTART;TZID=America/New_York:20240915T180000
DTEND;TZID=America/New_York:20240915T230000
DTSTAMP:20240907T022956Z
URL:https://breathemiami.us/events/flow-sunset-social-live-dj-breathwork-y
 oga-full-moon-ceremony/
SUMMARY:Flow + Sunset Social - Live DJ Breathwork\, Yoga\, Full Moon Ceremo
 ny
DESCRIPTION:Join us for an extraordinary evening of relaxation and communit
 y at the Sunset Rooftop of Uma House Miami Beach on [Date]. This immersive
  event combines live DJ music\, breathwork\, yoga\, and a full moon ceremo
 ny\, all set against the stunning backdrop of ocean views and a vibrant su
 nset.\n\nEvent Highlights:\n\n 	Arrival and Mocktails: Upon arrival\, gues
 ts will be greeted with a refreshing mocktail\, setting the tone for a nig
 ht of rejuvenation and connection. Slip on your silent disco headphones an
 d prepare for an evening of multi-sensory experiences.\n 	Aethernal’s Ap
 hrodisiac Plant-Based Tincture Ceremony: Begin your journey with Aethernal
 ’s unique herbal tincture ceremony. This ceremony uses plant-based aphro
 disiacs to activate the tantric spirit\, fostering a deeper connection wit
 h yourself and your surroundings.\n 	Live DJ Yoga and Breathwork Session: 
 Immerse yourself in a transformative yoga and breathwork session led by Ca
 therine and Sebastian\, who will provide live DJ music throughout the prac
 tice. This session promises a harmonious blend of movement\, sound\, and b
 reath to elevate your well-being.\n 	Sound and Reiki Energy Healing: Exper
 ience a profound sense of peace as you are enveloped by the soothing sound
 s of crystal bowls\, drums\, shakers\, and chimes. Reiki practitioners wil
 l channel universal life force energy to restore balance and support your 
 body's natural healing processes.\n 	Collective Reading and Journaling: Fo
 llowing the flow\, Intuitive Medium Viva La Mystic will deliver a collecti
 ve message aligned with the full moon's energy. This will be followed by g
 uided journaling\, allowing you to reflect on your experience and emotions
 .\n 	Sunset Social: The evening culminates in a vibrant Sunset Social. Cel
 ebrate new friendships and community connections while enjoying live DJ mu
 sic\, refreshing drinks\, tarot readings\, and a delectable Argentinian Ch
 urrasco.\n\nLocation:\n\nThe Sunset Rooftop at Uma House Miami Beach offer
 s a serene setting with panoramic ocean views. As the sun sets\, the sky w
 ill provide a breathtaking backdrop to enhance your wellness journey\, ble
 nding tranquility with natural beauty.\n\nJoin us for an evening that tran
 scends traditional wellness events\, offering a unique combination of self
 -care\, community\, and celebration. Reserve your spot now for a night of 
 transformative experiences and unforgettable connections.\n\nGET TICKETS\n
ATTACH;FMTTYPE=image/jpeg:https://breathemiami.us/wp-content/uploads/2024/
 09/Flow-Sunset-Social-Live-DJ-Breathwork-Yoga-Full-Moon-Ceremony.jpg
CATEGORIES:Mindfulness Events,Things To Do,Wellness Events
LOCATION:Uma House by Yurbban South Beach\, 1775 James Avenue Miami Beach\,
  Miami\, Florida\, 33139\, FL\, United States
X-APPLE-STRUCTURED-LOCATION;VALUE=URI;X-ADDRESS=1775 James Avenue Miami Bea
 ch\, Miami\, Florida\, 33139\, FL\, United States;X-APPLE-RADIUS=100;X-TIT
 LE=Uma House by Yurbban South Beach:geo:0,0
END:VEVENT
BEGIN:VTIMEZONE
TZID:America/New_York
X-LIC-LOCATION:America/New_York
BEGIN:DAYLIGHT
DTSTART:20240310T030000
TZOFFSETFROM:-0500
TZOFFSETTO:-0400
TZNAME:EDT
END:DAYLIGHT
END:VTIMEZONE
END:VCALENDAR