BEGIN:VCALENDAR
VERSION:2.0
PRODID:-//wp-events-plugin.com//7.2.3.1//EN
TZID:America/New_York
X-WR-TIMEZONE:America/New_York
BEGIN:VEVENT
UID:819@breathemiami.us
DTSTART;TZID=America/New_York:20240914T110000
DTEND;TZID=America/New_York:20240914T123000
DTSTAMP:20240907T020925Z
URL:https://breathemiami.us/events/flow-refresh-revitalize/
SUMMARY:FLOW-REFRESH -REVITALIZE
DESCRIPTION:Embark on a journey of rejuvenation and vitality at the Flow - 
 Refresh - Revitalize wellness event\, presented by Break Free Movement and
  Hydrology Wellness. Set against the tranquil backdrop of the Paseo Courty
 ard at the Thesis Hotel in Coral Gables\, this special event promises a da
 y of invigorating activities and holistic rejuvenation.\n\nEvent Details:\
 n\n 	Date and Time: Saturday\, September 14th\, at 11 am\n 	Location: Pase
 o Courtyard\, Thesis Hotel\, Coral Gables\n\nWhat to Expect:\n\n 	Power Yo
 ga Session: Experience a dynamic Power Yoga class led by Break Free Moveme
 nt in the serene outdoor setting of the Paseo Courtyard. This invigorating
  practice is designed to energize your body and clear your mind.\n 	Recove
 ry and Rejuvenation: Following the yoga session\, Hydrology Wellness will 
 guide you through various recovery and rejuvenation techniques to enhance 
 your overall well-being.\n 	Complimentary Goodie Bags: Each participant wi
 ll receive a complimentary goodie bag filled with wellness products and su
 rprises.\n 	Exciting Giveaways: Enjoy exciting giveaways from our sponsors
 \, with details to be announced soon!\n\nEnhance Your Experience:\n\nEleva
 te your wellness journey with optional add-ons\, including:\n\n 	Cold Plun
 ge: Experience the revitalizing effects of a cold plunge for a refreshing 
 boost.\n 	Cryotherapy: Benefit from the rejuvenating effects of cryotherap
 y to aid in recovery and enhance vitality.\n 	B-12 Intramuscular Shots: Re
 plenish your energy levels and support overall health with B-12 shots.\n\n
 Join us for a day dedicated to refreshing your mind and body in a beautifu
 l outdoor setting. Reserve your spot today and prepare to feel revitalized
  and renewed!\n\nGET TICKETS\n
ATTACH;FMTTYPE=image/jpeg:https://breathemiami.us/wp-content/uploads/2024/
 09/FLOW-REFRESH-REVITALIZE.jpg
CATEGORIES:Mindfulness Events,Things To Do,Wellness Events
LOCATION:THesis Hotel Miami\, 1350 South Dixie Highway Coral Gables\, Miami
 \, United States\, 33146\, FL\, United States
X-APPLE-STRUCTURED-LOCATION;VALUE=URI;X-ADDRESS=1350 South Dixie Highway Co
 ral Gables\, Miami\, United States\, 33146\, FL\, United States;X-APPLE-RA
 DIUS=100;X-TITLE=THesis Hotel Miami:geo:0,0
END:VEVENT
BEGIN:VTIMEZONE
TZID:America/New_York
X-LIC-LOCATION:America/New_York
BEGIN:DAYLIGHT
DTSTART:20240310T030000
TZOFFSETFROM:-0500
TZOFFSETTO:-0400
TZNAME:EDT
END:DAYLIGHT
END:VTIMEZONE
END:VCALENDAR