BEGIN:VCALENDAR
VERSION:2.0
PRODID:-//wp-events-plugin.com//7.2.3.1//EN
TZID:America/New_York
X-WR-TIMEZONE:America/New_York
BEGIN:VEVENT
UID:1277@breathemiami.us
DTSTART;TZID=America/New_York:20250308T090000
DTEND;TZID=America/New_York:20250308T100000
DTSTAMP:20250218T061149Z
URL:https://breathemiami.us/events/flow-hip-hop-yoga-edgewater-miami/
SUMMARY:FLOW: Hip Hop Yoga | Edgewater\, Miami
DESCRIPTION:Step into an energizing fusion of movement and music with FLOW:
  Hip Hop Yoga\, where dynamic Vinyasa sequences are paired with the latest
  hip-hop\, R&amp\;B\, and Afrobeats. Whether you're a seasoned yogi or new
  to the practice\, this high-energy session is designed to elevate your fl
 ow\, sync breath with beats\, and cultivate a powerful mind-body connectio
 n.\nWhat to Expect:\n\n 	Guided Power Vinyasa: A dynamic\, full-body flow 
 that strengthens\, stretches\, and energizes.\n 	Live Beats: Move in rhyth
 m to an uplifting mix of hip-hop\, R&amp\;B\, and Afrobeats.\n 	Post-FLOW 
 Refresh: Cool down with chilled\, scented towels for ultimate relaxation.\
 n\nEvent Details:\n📅 When: Saturday\, March 8th at 9 AM\n📍 Where: Co
 Fitness Miami\, Studio A – 2700 Biscayne Blvd\, Miami\n💧 What to Brin
 g: A yoga mat\, face towel\, and water. Come dressed for movement and swea
 t.\n🚗 Parking: Limited free parking available onsite\; paid street park
 ing nearby. Ride-sharing is encouraged.\n\nMeet Your Instructors:\n\n 	AD 
 (@AD_Yogi_) – An award-winning wellness coach and certified exercise the
 rapist\, AD discovered yoga through his athletic journey\, using it to rec
 over from basketball-related injuries.\n 	Angel (@SimplyFitAngel) – A we
 llness coach and lifestyle athlete with certifications in exercise and nut
 ritional science\, Angel turned to yoga to manage her autoimmune condition
  and has been committed ever since.\n\nRefund Policy:\n\n 	Refunds are ava
 ilable up to 7 days before the event (Eventbrite fees excluded).\n 	No ref
 unds for tickets purchased on or after March 1st.\n 	Refund requests after
  the event will not be granted.\n\nImportant Notices:\nBy participating in
  this Simply Defined Fitness event\, attendees acknowledge and assume all 
 risks associated with participation and agree to release Simply Defined Fi
 tness from any liability.\n\nDo you have questions or need tickets?\n📧 
 Email: simplydefinedfitness@gmail.com\nSpots are limited—reserve yours t
 oday and get ready to flow!\n\nGET TICKETS\n
ATTACH;FMTTYPE=image/jpeg:https://breathemiami.us/wp-content/uploads/2025/
 02/Move-Soak-and-Chill-1.avif
CATEGORIES:Wellness Events
LOCATION:CoFitness\, 2700 Biscayne Boulevard Miami\, Miami\, Florida\, 3313
 7\, FL\, United States
X-APPLE-STRUCTURED-LOCATION;VALUE=URI;X-ADDRESS=2700 Biscayne Boulevard Mia
 mi\, Miami\, Florida\, 33137\, FL\, United States;X-APPLE-RADIUS=100;X-TIT
 LE=CoFitness:geo:0,0
END:VEVENT
BEGIN:VTIMEZONE
TZID:America/New_York
X-LIC-LOCATION:America/New_York
BEGIN:STANDARD
DTSTART:20241103T010000
TZOFFSETFROM:-0400
TZOFFSETTO:-0500
TZNAME:EST
END:STANDARD
END:VTIMEZONE
END:VCALENDAR