BEGIN:VCALENDAR
VERSION:2.0
PRODID:-//wp-events-plugin.com//7.2.3.1//EN
TZID:America/New_York
X-WR-TIMEZONE:America/New_York
BEGIN:VEVENT
UID:1107@breathemiami.us
DTSTART;TZID=America/New_York:20241029T113000
DTEND;TZID=America/New_York:20241029T140000
DTSTAMP:20241018T053959Z
URL:https://breathemiami.us/events/florida-banking-forum/
SUMMARY:Florida Banking Forum
DESCRIPTION:The Florida Banking Forum invites industry professionals to gat
 her for an insightful event at Fleming's Steakhouse in Coral Gables. Atten
 dees will have the unique opportunity to hear from esteemed guest speaker 
 Kathy Kraninger\, a recognized leader in the banking sector known for her 
 expertise and impactful contributions.\n\nThis event promises to be a valu
 able experience for those in the banking and financial services community\
 , offering a platform for networking\, knowledge sharing\, and engaging di
 scussions on current trends and challenges facing the industry.\n\nGenerou
 sly sponsored by New Edge Associates\, this forum is not just a chance to 
 gain insights from a respected figure like Kraninger\, but also an occasio
 n to connect with peers\, build relationships\, and explore collaborative 
 opportunities within the vibrant Florida banking landscape.\n\nJoin us for
  an evening filled with great conversations\, delicious cuisine\, and the 
 potential to shape the future of banking in Florida. Don’t miss out on t
 his exceptional gathering of minds and ideas!\n\nGET TICKETS\n
ATTACH;FMTTYPE=image/jpeg:https://breathemiami.us/wp-content/uploads/2024/
 10/Florida-Banking-Forum.jpg
CATEGORIES:Things To Do
LOCATION:Fleming’s Prime Steakhouse & Wine Bar\, 2525 Ponce de Leon #Suit
 e 100 Coral Gables\, Miami\, Florida\, 33134\, FL\, United States
X-APPLE-STRUCTURED-LOCATION;VALUE=URI;X-ADDRESS=2525 Ponce de Leon #Suite 1
 00 Coral Gables\, Miami\, Florida\, 33134\, FL\, United States;X-APPLE-RAD
 IUS=100;X-TITLE=Fleming’s Prime Steakhouse & Wine Bar:geo:0,0
END:VEVENT
BEGIN:VTIMEZONE
TZID:America/New_York
X-LIC-LOCATION:America/New_York
BEGIN:DAYLIGHT
DTSTART:20240310T030000
TZOFFSETFROM:-0500
TZOFFSETTO:-0400
TZNAME:EDT
END:DAYLIGHT
END:VTIMEZONE
END:VCALENDAR