BEGIN:VCALENDAR
VERSION:2.0
PRODID:-//wp-events-plugin.com//7.2.3.1//EN
TZID:America/New_York
X-WR-TIMEZONE:America/New_York
BEGIN:VEVENT
UID:610@breathemiami.us
DTSTART;TZID=America/New_York;VALUE=DATE:20240713
DTEND;TZID=America/New_York;VALUE=DATE:20240714
DTSTAMP:20240706T065143Z
URL:https://breathemiami.us/events/floating-sound-bath/
SUMMARY:Floating Sound Bath
DESCRIPTION:Experience tranquility like never before at the Aqua Crest Pool
  in Delray with our exclusive Floating Sound Bath. Immerse yourself in a d
 eeply relaxing session that combines the soothing sounds of healing instru
 ments with the gentle embrace of water. Whether you choose to float or pre
 fer a grounded experience\, this event promises to leave you feeling rejuv
 enated and serene.\n\nEvent Details:\n\nJoin us at the Aqua Crest Pool\, w
 here we have transformed the serene waters into a sanctuary of sound and r
 elaxation. The Floating Sound Bath offers a unique opportunity to unwind a
 midst the calming ambiance of the pool.\n\nFloating Experience:\n\nGuests 
 opting for the floating experience will be gently supported by the water a
 s they surrender to the therapeutic vibrations of sound. Comfortable cloth
 ing is recommended to fully enjoy this serene immersion.\n\nGrounded Exper
 ience:\n\nFor those who prefer a grounded experience\, we provide a tranqu
 il space on land with yoga mats available. This option ensures that everyo
 ne can participate comfortably\, regardless of their preference for floati
 ng or staying grounded.\n\nWhat to Expect:\n\nDuring the session\, you wil
 l be guided through a journey of deep relaxation and inner peace facilitat
 ed by sound healing instruments. The resonant tones will harmonize with th
 e natural elements around you\, creating a profound sense of balance and t
 ranquility.\n\nBenefits:\n\n 	Relaxation: Experience profound relaxation a
 s the sound vibrations wash over you\, melting away tension and stress.\n 
 	Rejuvenation: Refresh your mind and body\, leaving the session feeling re
 vitalized and centered.\n 	Connection: Connect with the healing power of w
 ater and sound\, enhancing your overall sense of well-being.\n\nConclusion
 :\n\nWhether you choose to float or stay grounded\, the Floating Sound Bat
 h at Aqua Crest Pool promises a transformative experience of relaxation an
 d renewal. Embrace this unique opportunity to harmonize your body\, mind\,
  and spirit amidst the soothing sounds and serene waters. Join us for a bl
 issful journey of healing and tranquility.\n\nGET TICKETS\n
ATTACH;FMTTYPE=image/jpeg:https://breathemiami.us/wp-content/uploads/2024/
 07/Floating-Sound-Bath.jpg
CATEGORIES:Mindfulness Events,Wellness Events
LOCATION:Aqua Crest Pool\, 2503 Seacrest Boulevard Delray Beach\, Miami\, U
 nited States\, 33444\, Florida\, United States
X-APPLE-STRUCTURED-LOCATION;VALUE=URI;X-ADDRESS=2503 Seacrest Boulevard Del
 ray Beach\, Miami\, United States\, 33444\, Florida\, United States;X-APPL
 E-RADIUS=100;X-TITLE=Aqua Crest Pool:geo:0,0
END:VEVENT
BEGIN:VTIMEZONE
TZID:America/New_York
X-LIC-LOCATION:America/New_York
BEGIN:DAYLIGHT
DTSTART:20240310T030000
TZOFFSETFROM:-0500
TZOFFSETTO:-0400
TZNAME:EDT
END:DAYLIGHT
END:VTIMEZONE
END:VCALENDAR