BEGIN:VCALENDAR
VERSION:2.0
PRODID:-//wp-events-plugin.com//7.2.3.1//EN
TZID:America/New_York
X-WR-TIMEZONE:America/New_York
BEGIN:VEVENT
UID:555@breathemiami.us
DTSTART;TZID=America/New_York:20240701T200000
DTEND;TZID=America/New_York:20240701T210000
DTSTAMP:20240623T173447Z
URL:https://breathemiami.us/events/floating-sound-bath-aerial-hammocks/
SUMMARY:Floating Sound Bath: Aerial Hammocks
DESCRIPTION:Rewrite and paraphrase using NLP\, in third person narration. A
 nd expand if possible:\nFloating Sound Bath: Aerial Hammocks\n\nExperience
  Serenity in the Sky: Floating Sound Bath in Aerial Hammock at RF Studios 
 Miami\n\nIndulge your senses and elevate your well-being with our unique A
 erial Hammock Floating Sound Bath experience\, hosted at RF Studios Miami.
  Immerse yourself in an ethereal journey where relaxation meets elevation\
 , as you float weightlessly in our aerial hammocks amidst a symphony of so
 othing sounds.\n\nWhat is a Sound Bath?\nA Sound Bath is a therapeutic exp
 erience where participants are bathed in the healing vibrations of sound. 
 Using instruments like crystal singing bowls\, Tibetan singing bowls\, chi
 mes\, and gongs\, the practitioner creates a soundscape that encourages de
 ep relaxation\, meditation\, and rejuvenation. As the harmonious frequenci
 es wash over you\, tensions melt away\, leaving you feeling refreshed and 
 revitalized.\n\nBenefits of a Floating Sound Bath:\n\n 	Stress Reduction: 
 The calming sounds help to reduce stress and anxiety\, promoting a sense o
 f peace and tranquility.\n 	Enhanced Meditation: The immersive nature of t
 he experience aids in deepening meditation practices\, allowing for greate
 r focus and clarity of mind.\n 	Improved Sleep: Sound Baths can facilitate
  a deeper and more restful sleep by calming the nervous system and inducin
 g a state of relaxation.\n 	Emotional Healing: The vibrations of the sound
  can release emotional blockages\, promoting emotional well-being and bala
 nce.\n 	Physical Relaxation: Muscles relax\, tension dissipates\, and the 
 body enters a state of profound relaxation\, promoting overall physical we
 llness.\n\nWhy you should Attend:\nJoin us for our weekly Aerial Hammock F
 loating Sound Bath to experience the ultimate in relaxation and rejuvenati
 on. Suspended in the air\, supported by the gentle embrace of the hammock\
 , you'll drift away on a journey of sound and serenity. Whether you're see
 king stress relief\, a deeper connection to yourself\, or simply a moment 
 of blissful escape\, our Sound Bath event offers a sanctuary in the sky.\n
 \nGET TICKETS\n
ATTACH;FMTTYPE=image/jpeg:https://breathemiami.us/wp-content/uploads/2024/
 06/Floating-Sound-Bath-Aerial-Hammocks.jpg
CATEGORIES:Mindfulness Events,Wellness Events
LOCATION:RF Studios Miami\, 910 West Avenue Space B Miami Beach\, Miami\, F
 lorida\, 33139\, United States
X-APPLE-STRUCTURED-LOCATION;VALUE=URI;X-ADDRESS=910 West Avenue Space B Mia
 mi Beach\, Miami\, Florida\, 33139\, United States;X-APPLE-RADIUS=100;X-TI
 TLE=RF Studios Miami:geo:0,0
END:VEVENT
BEGIN:VTIMEZONE
TZID:America/New_York
X-LIC-LOCATION:America/New_York
BEGIN:DAYLIGHT
DTSTART:20240310T030000
TZOFFSETFROM:-0500
TZOFFSETTO:-0400
TZNAME:EDT
END:DAYLIGHT
END:VTIMEZONE
END:VCALENDAR