BEGIN:VCALENDAR
VERSION:2.0
PRODID:-//wp-events-plugin.com//7.2.3.1//EN
TZID:America/New_York
X-WR-TIMEZONE:America/New_York
BEGIN:VEVENT
UID:1078@breathemiami.us
DTSTART;TZID=America/New_York:20241030T200000
DTEND;TZID=America/New_York:20241030T210000
DTSTAMP:20241013T122852Z
URL:https://breathemiami.us/events/floating-sound-bath-aerial-hammocks-2/
SUMMARY:Floating Sound Bath: Aerial Hammocks
DESCRIPTION:\n\n\n\n\nElevate your wellness and indulge in a unique sensory
  experience with the Floating Sound Bath in Aerial Hammocks\, held weekly 
 at RF Studios Miami. Every Monday at 8 PM and Wednesday at 7:30 PM\, this 
 one-of-a-kind event invites you to relax\, float\, and immerse yourself in
  a symphony of soothing sounds while suspended weightlessly in aerial hamm
 ocks.\n\nWhat is a Sound Bath? A Sound Bath is a therapeutic journey where
  participants are enveloped in the healing vibrations of sound. Using inst
 ruments like crystal and Tibetan singing bowls\, chimes\, and gongs\, the 
 practitioner creates an ethereal soundscape designed to promote deep relax
 ation\, meditation\, and inner healing. As the harmonious frequencies reso
 nate through your body\, stress and tension dissolve\, leaving you feeling
  refreshed\, balanced\, and rejuvenated.\n\nThe Benefits of a Floating Sou
 nd Bath:\n\n 	Stress Relief: The calming vibrations help melt away stress 
 and anxiety\, promoting a profound sense of peace and tranquility.\n 	Enha
 nced Meditation: The immersive sound experience supports deepening meditat
 ion practices\, aiding in clarity of mind and heightened self-awareness.\n
  	Better Sleep: Sound Baths naturally calm the nervous system\, making it 
 easier to achieve a restful\, restorative sleep.\n 	Emotional Healing: Sou
 nd frequencies help release emotional blockages\, supporting emotional bal
 ance and well-being.\n 	Physical Relaxation: Floating in the aerial hammoc
 k allows muscles to relax and tension to dissipate\, resulting in overall 
 physical wellness and relief.\n\nWhy Attend? Experience ultimate relaxatio
 n in the sky with our weekly Aerial Hammock Floating Sound Bath. Supported
  by the soft embrace of the hammock\, you'll float weightlessly as the sou
 nds of crystal bowls and gongs guide you into a meditative state. This eve
 nt offers an opportunity to connect with yourself on a deeper level\, rele
 ase stress\, and escape into a world of serenity. Whether you're seeking e
 motional healing\, stress relief\, or simply a blissful escape from daily 
 life\, this session provides a sanctuary of sound and peace above the grou
 nd.\n\nWhat to Bring:\n\n 	Wear loose\, comfortable clothing that allows f
 or movement and relaxation.\n 	Bring a water bottle to stay hydrated.\n 	C
 ome with an open mind\, ready to let go and surrender to the experience.\n
 \nInvestment:\nThe cost for this blissful 60-minute floating experience is
  $40 per person. We recommend arriving at least 10 minutes early to settle
  in\, put away your belongings\, and get comfortable in your hammock befor
 e the session begins.\n\nFor more information\, please contact RF Studios 
 at 786-528-8955.\n\nDon’t miss out on this ethereal\, transformative exp
 erience designed to soothe your body\, mind\, and spirit.\n\n\n\n\n\n\nGET
  TICKETS\n
ATTACH;FMTTYPE=image/jpeg:https://breathemiami.us/wp-content/uploads/2024/
 10/Floating-Sound-Bath-Aerial-Hammocks.jpg
CATEGORIES:Wellness Events
LOCATION:RF Studios Miami\, 910 West Avenue Space B Miami Beach\, Miami\, F
 lorida\, 33139\, United States
X-APPLE-STRUCTURED-LOCATION;VALUE=URI;X-ADDRESS=910 West Avenue Space B Mia
 mi Beach\, Miami\, Florida\, 33139\, United States;X-APPLE-RADIUS=100;X-TI
 TLE=RF Studios Miami:geo:0,0
END:VEVENT
BEGIN:VTIMEZONE
TZID:America/New_York
X-LIC-LOCATION:America/New_York
BEGIN:DAYLIGHT
DTSTART:20240310T030000
TZOFFSETFROM:-0500
TZOFFSETTO:-0400
TZNAME:EDT
END:DAYLIGHT
END:VTIMEZONE
END:VCALENDAR