BEGIN:VCALENDAR
VERSION:2.0
PRODID:-//wp-events-plugin.com//7.2.3.1//EN
TZID:America/New_York
X-WR-TIMEZONE:America/New_York
BEGIN:VEVENT
UID:1272@breathemiami.us
DTSTART;TZID=America/New_York:20250312T184500
DTEND;TZID=America/New_York:20250312T203000
DTSTAMP:20250218T042827Z
URL:https://breathemiami.us/events/floating-full-moon-sound-bath/
SUMMARY:FLOATING FULL MOON SOUND BATH
DESCRIPTION:Immerse yourself in a one-of-a-kind floating meditation experie
 nce at the luxurious Four Seasons Hotel Miami\, where the radiant energy o
 f the full moon meets the healing power of sound and breathwork. This tran
 sformative session invites participants to surrender\, relax\, and realign
  as they gently float in the grand pool\, effortlessly carried by the wate
 r's embrace.\n\nWhat to Expect:\n🌕Harness the Energy of the Full Moon 
 – Align with the moon’s powerful vibrations to release tension\, invit
 e clarity\, and restore balance.\n🎶 Live Sound Healing – Immerse in a
  multi-sensory sound bath\, delivered through personal headphones\, featur
 ing soothing frequencies that promote deep relaxation.\n💨 Guided Breath
 work Journey – Experience breath-based techniques that enhance mindfulne
 ss\, regulate emotions\, and deepen your meditative state.\n💦 Effortles
 s Floating Meditation – No swimming skills are needed! Participants will
  float on comfortable flotation devices while the tranquil water amplifies
  relaxation and healing.\n\nWhat’s Included?\n✔ Flotation Device – E
 nsuring effortless relaxation throughout the session✔ Personal Headphone
 s – Delivering immersive sound healing and breathwork guidance✔ Towel 
 &amp\; Essentials – Everything needed for a seamless and serene experien
 ce\nAttendees are encouraged to wear comfortable clothing and arrive 15 mi
 nutes early for check-in and setup. Whether seeking inner peace\, emotiona
 l release\, or a deeper connection with lunar energy\, this floating sound
  bath offers a truly elevated wellness experience unlike any other. 🌊
 ✨\n\n\nGET TICKETS\n
ATTACH;FMTTYPE=image/jpeg:https://breathemiami.us/wp-content/uploads/2025/
 02/FLOATING-FULL-MOON-SOUND-BATH.avif
CATEGORIES:Wellness Events
LOCATION:Four Seasons Hotel Miami\, 1435 Brickell Ave\, Miami\, Florida\, 3
 3131\, FL\, United States
X-APPLE-STRUCTURED-LOCATION;VALUE=URI;X-ADDRESS=1435 Brickell Ave\, Miami\,
  Florida\, 33131\, FL\, United States;X-APPLE-RADIUS=100;X-TITLE=Four Seas
 ons Hotel Miami:geo:0,0
END:VEVENT
BEGIN:VTIMEZONE
TZID:America/New_York
X-LIC-LOCATION:America/New_York
BEGIN:DAYLIGHT
DTSTART:20250309T030000
TZOFFSETFROM:-0500
TZOFFSETTO:-0400
TZNAME:EDT
END:DAYLIGHT
END:VTIMEZONE
END:VCALENDAR