BEGIN:VCALENDAR
VERSION:2.0
PRODID:-//wp-events-plugin.com//7.2.3.1//EN
TZID:America/New_York
X-WR-TIMEZONE:America/New_York
BEGIN:VEVENT
UID:785@breathemiami.us
DTSTART;TZID=America/New_York:20240907T070000
DTEND;TZID=America/New_York:20240908T070000
DTSTAMP:20240825T160238Z
URL:https://breathemiami.us/events/fitness-health-and-wellness-weekend/
SUMMARY:Fitness\, Health and Wellness Weekend
DESCRIPTION:Join the City of Miami Beach for an energizing and fun-filled F
 itness\, Health\, and Wellness Weekend at Lummus Park! This free\, two-day
  event takes place on Saturday\, September 7\, and Sunday\, September 8\, 
 between 6th and 9th Streets\, offering a diverse range of activities for a
 ll fitness levels.\n\nEvent Highlights:\n\n 	Group Fitness Classes: Engage
  in a variety of workouts\, including yoga\, Pilates\, cardio boxing\, ket
 tlebells\, and Cinderfit. These sessions are perfect for anyone looking to
  get active\, whether you’re a fitness enthusiast or just starting your 
 wellness journey.\n 	Beach Sports Tournaments: Test your skills in excitin
 g beach sports tournaments\, featuring volleyball\, footvolley\, beach ten
 nis\, and teqball. Gather your friends or join a team and enjoy some frien
 dly competition on the sandy shores of Miami Beach.\n 	Sunset Calisthenics
  Meetup: End your day with a rejuvenating sunset calisthenics session\, or
 ganized by the passionate Muscle Beach community. It’s the perfect way t
 o wind down while staying active and enjoying the beautiful Miami Beach su
 nset.\n 	Community Engagement: Connect with local fitness trainers and gym
 s\, including popular names like Crunch and Tony Thomas. Take advantage of
  this opportunity to learn from experts\, discover new workout routines\, 
 and engage with the local fitness community.\n 	Live Music and Food: Keep 
 the energy going throughout the weekend with live music and a variety of f
 ood offerings. It’s not just about fitness—it’s a celebration of hea
 lth\, wellness\, and community.\n\nDon’t miss this opportunity to improv
 e your fitness\, connect with like-minded individuals\, and enjoy a weeken
 d of health and wellness in the vibrant setting of Lummus Park. Whether yo
 u’re looking to break a sweat\, compete\, or simply soak in the positive
  vibes\, there’s something for everyone at this event!\n\nGET TICKETS\n
ATTACH;FMTTYPE=image/jpeg:https://breathemiami.us/wp-content/uploads/2024/
 08/Fitness-Health-and-Wellness-Weekend.png
CATEGORIES:Sports &amp; Fitness Events,Things To Do,Wellness Events
LOCATION:Lummus Park\, Between 6th and 9th Street\, Miami\, Florida\, 33139
 \, FL \, United States
X-APPLE-STRUCTURED-LOCATION;VALUE=URI;X-ADDRESS=Between 6th and 9th Street\
 , Miami\, Florida\, 33139\, FL \, United States;X-APPLE-RADIUS=100;X-TITLE
 =Lummus Park:geo:0,0
END:VEVENT
BEGIN:VTIMEZONE
TZID:America/New_York
X-LIC-LOCATION:America/New_York
BEGIN:DAYLIGHT
DTSTART:20240310T030000
TZOFFSETFROM:-0500
TZOFFSETTO:-0400
TZNAME:EDT
END:DAYLIGHT
END:VTIMEZONE
END:VCALENDAR