BEGIN:VCALENDAR
VERSION:2.0
PRODID:-//wp-events-plugin.com//7.2.3.1//EN
TZID:America/New_York
X-WR-TIMEZONE:America/New_York
BEGIN:VEVENT
UID:77@breathemiami.us
DTSTART;TZID=America/New_York:20230930T140000
DTEND;TZID=America/New_York:20230930T180000
DTSTAMP:20230930T010523Z
URL:https://breathemiami.us/events/feminine-restoration-retreat/
SUMMARY:Feminine Restoration Retreat
DESCRIPTION:The Feminine Restoration Women's Retreat is for women to unwin
 d\, receive\, and replenish their feminine core. This day is for you t
 o be treasured\, cherished\, and connected to your heart and womb. We will
  flow into the feminine arts with somatic healing and emotional release to
  align with the potency of the Aires/ Libra axis on the full moon.\n\nWhat
  to Expect\n\n 	Opening ceremony\n 	Cacao Ceremony\n 	Guided Descent (med
 itation) into the body\, down to the heart and womb\n 	Womb-centric Embod
 ied Movement\n 	Voice Activation\n 	Psychic Clearing\n\n\n 	Breathwork\n 	
 Prayer\n 	Practice and Play with Opening to Receptivity\n 	Reiki Sound Bat
 h\n 	Closing ceremony\n 	Gifts for your feminine spirit\n 	Sacred Sisterh
 ood\n\nWomb Circle is an oracular teaching space of remembrance\, and comi
 ng back into our feminine core. It is an intimate circle of kindred-hearte
 d women\, ready to bathe in their original radiance of womanhood and siste
 rhood. This is a ceremonial space for women ready to dive down deep into t
 heir embodied feminine soul-essence.\n\nBring\n\n 	sister friends\n 	water
  bottle\n 	journal and pen\n 	yoga mat\, blankets\, meditation cushion\, e
 ye pillow\, pillows\, anything for optimal comfort during sound bath\, rei
 ki\, and transmission\n\n\n 	any crystals or sacred items you'd like to re
 ceive this energy with\n 	wear clothes that you feel beautiful and free to
  move in\n\nLocation\n\nBody-Based Mindfulness Center\n\nInvestment/ Ticke
 ts\n\nThis is an intimate event with limited tickets available.\n\nInvest
 ments are tierd for early bird\, general admission\, and final sales.\n\n*
 **If you'd like to save on Eventbrite fees you can venmo @Ninaborn the f
 ull amount with description: 9.30 Retreat\n\nNo refund policy.\n\nBe sure 
 your heart\, womb and soul desires to be present for this ceremonial day r
 etreat. Create plenty of time to arrive on time and read all text in the e
 mails and event information to know where you are going and what to bring.
  If a life emergency happens email wombcirclewisdom@gmail.com to discuss o
 ptions.\n\nQuestions and Inquery\n\nEmail Nina at wombcirclewisdom@gmail.c
 om\n\nLearn more about Nina Born and her work at:\n\nhttps://www.ninaborn.
 net\n\nIG: @iamninaborn and @womb.circle\n\nFB: Nina Born and Womb Circle
ATTACH;FMTTYPE=image/jpeg:https://breathemiami.us/wp-content/uploads/2023/
 09/Feminine_Restoration_Retreat_Nina-Born.jpeg
CATEGORIES:Retreats Events
LOCATION:The Body-Based Mindfulness Center\, 1414 North Nevada Avenue\, Col
 orado Springs\, Colorado\, 80907\, United States
X-APPLE-STRUCTURED-LOCATION;VALUE=URI;X-ADDRESS=1414 North Nevada Avenue\, 
 Colorado Springs\, Colorado\, 80907\, United States;X-APPLE-RADIUS=100;X-T
 ITLE=The Body-Based Mindfulness Center:geo:0,0
END:VEVENT
BEGIN:VTIMEZONE
TZID:America/New_York
X-LIC-LOCATION:America/New_York
BEGIN:DAYLIGHT
DTSTART:20230312T030000
TZOFFSETFROM:-0500
TZOFFSETTO:-0400
TZNAME:EDT
END:DAYLIGHT
END:VTIMEZONE
END:VCALENDAR