BEGIN:VCALENDAR
VERSION:2.0
PRODID:-//wp-events-plugin.com//7.2.3.1//EN
TZID:America/New_York
X-WR-TIMEZONE:America/New_York
BEGIN:VEVENT
UID:513@breathemiami.us
DTSTART;TZID=America/New_York;VALUE=DATE:20240614
DTEND;TZID=America/New_York;VALUE=DATE:20240617
DTSTAMP:20240531T061714Z
URL:https://breathemiami.us/events/fathers-day-couples-oceanfront-massage-
 retreat/
SUMMARY:Fathers Day Couples Oceanfront Massage Retreat
DESCRIPTION:Celebrate Father's Day with your loved one at an idyllic oceanf
 ront retreat in Hollywood Beach. From June 14th to 16th\, 2024\, indulge i
 n a day of pampering and rejuvenation\, designed to create lasting memorie
 s and deep relaxation.\n\nEnjoy a luxurious couples massage with a breatht
 aking view of the ocean waves. Our skilled therapists will help melt away 
 stress and tension\, leaving you both feeling refreshed and revitalized.\n
 \nAfter your massage\, take a leisurely stroll along the beach\, savor a g
 lass of wine\, and unwind in the tranquil surroundings. This retreat offer
 s the perfect blend of relaxation and natural beauty\, ensuring a truly me
 morable experience.\n\nShow your appreciation for the fathers in your life
  by treating them—and yourself—to this special event. It’s an opport
 unity to bond\, relax\, and celebrate in a serene oceanfront setting.\n\nD
 on't miss this unique chance to celebrate Father's Day with a blend of lux
 ury\, relaxation\, and natural beauty. Reserve your spot today and look fo
 rward to a weekend of bliss and connection.\n\nGET TICKETS\n
ATTACH;FMTTYPE=image/jpeg:https://breathemiami.us/wp-content/uploads/2024/
 05/Fathers-Day-Couples-Oceanfront-Massage-Retreat.jpg
CATEGORIES:Retreats Events
LOCATION:Hollywood Beach\, Hollywood Beach Hollywood\, Miami\, Florida\, 33
 019\,  FL \, United States
X-APPLE-STRUCTURED-LOCATION;VALUE=URI;X-ADDRESS=Hollywood Beach Hollywood\,
  Miami\, Florida\, 33019\,  FL \, United States;X-APPLE-RADIUS=100;X-TITLE
 =Hollywood Beach:geo:0,0
END:VEVENT
BEGIN:VTIMEZONE
TZID:America/New_York
X-LIC-LOCATION:America/New_York
BEGIN:DAYLIGHT
DTSTART:20240310T030000
TZOFFSETFROM:-0500
TZOFFSETTO:-0400
TZNAME:EDT
END:DAYLIGHT
END:VTIMEZONE
END:VCALENDAR