BEGIN:VCALENDAR
VERSION:2.0
PRODID:-//wp-events-plugin.com//7.2.3.1//EN
TZID:America/New_York
X-WR-TIMEZONE:America/New_York
BEGIN:VEVENT
UID:1152@breathemiami.us
DTSTART;TZID=America/New_York:20241109T110000
DTEND;TZID=America/New_York:20241109T160000
DTSTAMP:20241023T094609Z
URL:https://breathemiami.us/events/family-fun-festival/
SUMMARY:Family Fun Festival
DESCRIPTION:Spark curiosity and wonder at the Frost Science Family Fun Fest
 ival on Saturday\, November 9\, at Knight Plaza. This engaging\, free even
 t offers a day filled with interactive science activities designed for fam
 ilies to learn\, play\, and explore together.\n\nFrom live science shows t
 o hands-on exhibits\, the festival promises to captivate visitors of all a
 ges. Attendees will also have the chance to connect with community partner
 s who share a passion for science and discovery. And for those who work up
  an appetite\, food vendors will be on-site\, serving a variety of delicio
 us treats throughout the day.\n\nAlthough admission to the Frost Science M
 useum is not included\, all festival programming is entirely free\, making
  this an ideal opportunity for families to experience the wonders of scien
 ce in a fun\, welcoming environment. Parking is limited\, so guests are en
 couraged to plan ahead or consider alternative transportation to ensure a 
 smooth and enjoyable visit.\n\nCome experience an unforgettable day of lea
 rning and discovery at the Family Fun Festival\, where imagination meets i
 nnovation in the heart of Miami!\n\nGET TICKETS\n
ATTACH;FMTTYPE=image/jpeg:https://breathemiami.us/wp-content/uploads/2024/
 10/Family-Fun-Festival.jpg
CATEGORIES:Things To Do
LOCATION:Phillip and Patricia Frost Museum of Science\, 1101 Biscayne Blvd.
  Miami\, Miami\, Florida\, 33132\,  FL \, United States
X-APPLE-STRUCTURED-LOCATION;VALUE=URI;X-ADDRESS=1101 Biscayne Blvd. Miami\,
  Miami\, Florida\, 33132\,  FL \, United States;X-APPLE-RADIUS=100;X-TITLE
 =Phillip and Patricia Frost Museum of Science:geo:0,0
END:VEVENT
BEGIN:VTIMEZONE
TZID:America/New_York
X-LIC-LOCATION:America/New_York
BEGIN:STANDARD
DTSTART:20241103T010000
TZOFFSETFROM:-0400
TZOFFSETTO:-0500
TZNAME:EST
END:STANDARD
END:VTIMEZONE
END:VCALENDAR