BEGIN:VCALENDAR
VERSION:2.0
PRODID:-//wp-events-plugin.com//7.2.3.1//EN
TZID:America/New_York
X-WR-TIMEZONE:America/New_York
BEGIN:VEVENT
UID:1368@breathemiami.us
DTSTART;TZID=America/Los_Angeles:20251025T120000
DTEND;TZID=America/Los_Angeles:20251025T180000
DTSTAMP:20251007T154430Z
URL:https://breathemiami.us/events/fall-soiree-a-community-wellness-day/
SUMMARY:Fall Soiree - A Community Wellness Day
DESCRIPTION:FREE ADMISSION TO ALL\nThis is FREE just RSVP in advance to sec
 ure your spot before space runs out!\nWe're thrilled to invite you to this
  transformative event (A Community Wellness Day) where our community comes
  together for a day of connection and growth. Join us at the Zula Den for 
 an array of enriching experiences\, including breathwork\, meditation\, yo
 ga\, energy activation\, workshops\, perfume creations\, bodywork\, astrol
 ogy\, limpias\, medium readings\, and much more.\n\nTo make things run mor
 e smoothly\, we’ll now be hosting multiple facilitators offering their s
 ervices simultaneously.\n\nEach service will be around 15-20 minutes long\
 , and we’re keeping things moving to ensure everyone has a chance to par
 ticipate. Please note that if you'd like to take part in any of these serv
 ices\, you’ll need to wait in line for your selected service.\n\nDoors o
 pen: 11:00am for browsing through the market place vendors and settling in
  before the services begin at 12pm.\n\n&nbsp\;\nSchedule\nFood: Vegan Piz
 za @rize_kitchen_\n\nDeserts: Free Cakes &amp\; Cookies @santjllan\n\nEli
 xir Bar: Herbal Elixir Mocktails for sale @theherbalpixie\n\nBooth Vendor
 s: Ranga Gorilla @rangagorilla\n\nSun\, Soul\, &amp\; Stillness @aysha.yo
 ga @the.freespirit.yogi\n\n&nbsp\;\n\nLive Artists: Painting @okainaimage
 \n\n&nbsp\;\n\nIn Kind Donations:\n\n@Magicmind\n\n@MadHippie\n\n@ubatubaa
 cai\n\n&nbsp\;\nSponsors:\nReception: Live DJ @dlfromtheheart\n\n&nbsp\;\
 n\nZula Den\n\n12 - 12:45 Sound Therapy Session -Sacred Sound Conspiracy -
 Mami &amp\; I are one @Release.Heart.Center\n\n1 - 1:45 Kundalini Activati
 on@kaptivada_x_rosita\n\n2 - 2:45 Breathwork @christinaadelgado_\n\n3 - 3:
 45 Yoga Flow @the.freespirit.yogi and @aysha.yoga\n\n4 - 4:45 Harmonia Mul
 tidimensional Sound Experience @Harmoniala\n\n5 - 5:45 RESERVED\n\n&nbsp\;
 \n\nWarehouse\n\n12-2pm Cacao Bar @12rays_healing\n\n2-3pm Cacao Bar @elda
 dalfi\n\n3-5pm Cacao Bar\n\n12-5:30pm Henna @ mehnditation_henna\n\n12-6pm
  Painting @okainaimage\n\n2-4 pm Limpias @tristanvesquive\n\n1-4pm Cold Pl
 unge @respirospace\n\n&nbsp\;\n\nDome (Up to 10 People)\n\n12-1:50 A Self
  Love Hypno-Reiki Experience @root_and_reset\n\n2-5 Shamanic Womb Healing 
 @nirdominitz\n\n5-6 Navigating the Voyage of the Liminal World @dreamboatb
 etty\n\n&nbsp\;\n\nLoft (Up to 6 People- located in the warehouse)\n\n12-
 1:50 Shamnic Decoupling @kennedythehealer\n\n2-3:50 Tarot &amp\; Lenormand
  Readings by @healthesoul333\n\n4-5:50 Tarot &amp\; Lenormand Readings by 
 @healthesoul333\n\n&nbsp\;\n\nWorkshop Room (Up to 10 People- located ups
 tairs)\n\n12-1:50\n\n2-3:50 Hypnosis @jordanwolan\n\n4-5:50 Hypnotherapy f
 or Instant Confidence @goldmindalchemy\n\n&nbsp\;\n\nOne on One Private Sp
 aces\n\nTipi # 1 (warehouse)\n\n12-1:50 Envisioning Art Guidance @meira.l
 ight\n\n2-3:50 Sound Energy Alchemy @alexandriamorrow\n\n4-5:50 Limpias @n
 amaste_neena\n\n&nbsp\;\n\nTipi # 2 (warehouse)\n\n12-1:50 Available\n\n2
 -3:50 Available\n\n4-5:50 Intimacy Coaching @Ariellezadok\n\n&nbsp\;\n\nTi
 pi # 3 (warehouse)\n\n12-1:50 Available\n\n2-3:50 Available\n\n4-5:50 Ava
 ilable\n\n&nbsp\;\n\nTipi # 4 (warehouse)\n\n12-1pm Reiki @luzidity_holis
 tic_services\n\n2-3:50 Let’s Talk with Plants Through Natural Aromas @Ma
 tahari_oils\n\n4-5:50 Fairy tarot readings @visionaryfairies\n\n&nbsp\;\n\
 nRoom #1 (upstairs)\n\n12-1:50 Tarot Life &amp\; Career Readings @alexyou
 rfortuneteller\n\n2-3:50 Shamnic Decoupling @kennedythehealer\n\n4-5:50 On
 e On One Sound &amp\; Vibrational Therapy @nicjanickles\n\n&nbsp\;\n\nRoom
  #2 (upstairs)\n\n12-1:50 Venus Ritual (guided facial + meditation) @acry
 stalball\n\n2-3:50 Medical and Emotional Intuitive Reading @fullcirclether
 apeutics\n\n4-5:50 Shiatsu massage with meditation @taranaturalwellness\n\
 n&nbsp\;\n\nRoom #3 (upstairs)\n\n12-1:50 Soul Song Experience @dustofsou
 l\n\n2-3:50 Soul Song Experience @dustofsoul\n\n4-5:50 Soul Song Experienc
 e @dustofsoul\n\n&nbsp\;\n\nRoom #4 (upstairs)\n\n12-1:50 Breathwork and 
 Voice Activation @nuria.hermosa\n\n2-3:50 Cannabis assisted somatic releas
 e @sharzad_shoraka\n\n4-5:50 Intuitive astrology and tarot @vibes_with_int
 uitevly_d\n\n&nbsp\;
ATTACH;FMTTYPE=image/jpeg:https://breathemiami.us/wp-content/uploads/2025/
 10/Fall-Soiree-A-Community-Wellness-Day.jpeg
CATEGORIES:Food &amp; Drink Events,Mindfulness Events,Sports &amp; Fitness
 Events,Things To Do,Wellness Events,Yoga Events
LOCATION:Zula Den\, 4011 West Jefferson Boulevard \, Los Angeles\, 90016\, 
 CA\, United States
X-APPLE-STRUCTURED-LOCATION;VALUE=URI;X-ADDRESS=4011 West Jefferson Bouleva
 rd \, Los Angeles\, 90016\, CA\, United States;X-APPLE-RADIUS=100;X-TITLE=
 Zula Den:geo:0,0
END:VEVENT
BEGIN:VTIMEZONE
TZID:America/Los_Angeles
X-LIC-LOCATION:America/Los_Angeles
BEGIN:DAYLIGHT
DTSTART:20250309T030000
TZOFFSETFROM:-0800
TZOFFSETTO:-0700
TZNAME:PDT
END:DAYLIGHT
END:VTIMEZONE
END:VCALENDAR