BEGIN:VCALENDAR
VERSION:2.0
PRODID:-//wp-events-plugin.com//7.2.3.1//EN
TZID:America/New_York
X-WR-TIMEZONE:America/New_York
BEGIN:VEVENT
UID:796@breathemiami.us
DTSTART;TZID=America/New_York:20240928T180000
DTEND;TZID=America/New_York:20240928T200000
DTSTAMP:20240827T060057Z
URL:https://breathemiami.us/events/faena-o2flo-awaken-breathwork-experienc
 e/
SUMMARY:Faena O2FLO Awaken Breathwork Experience
DESCRIPTION:Immerse yourself in the transformative power of your breath wit
 h the Faena O2FLO Awaken Breathwork Experience. This event is an invitatio
 n to journey inward\, releasing stress\, anxiety\, and negativity as you a
 waken your inner spirit and connect with your true essence.\n\nThrough gui
 ded breathwork\, participants will learn to harness their breath as a tool
  for self-discovery and healing. As you breathe deeply\, you’ll find the
  space to let go of what no longer serves you\, creating room for clarity 
 and renewal. This experience is designed to help you quiet the noise of da
 ily life\, allowing you to tap into your inner power and gain a profound s
 ense of clarity.\n\nOpen to all levels\, this session is led by Daniel\, w
 ho will guide you through various breath techniques\, offering adaptations
  for both beginners and experienced practitioners. Whether you are new to 
 breathwork or looking to deepen your practice\, you’ll find the guidance
  you need to explore your breath at your own pace.\n\nIncorporating elemen
 ts of Tai Chi\, Qi Gong\, and both ancient and modern breathwork practices
 \, this unique sequence is crafted to lead you on a journey of awakening a
 nd transformation. You’ll leave the session feeling lighter\, more cente
 red\, and empowered by the clarity you’ve achieved.\n\nDon’t miss this
  opportunity to reconnect with your inner self and experience the profound
  benefits of breathwork in a supportive and energizing environment. Join u
 s at Faena and discover the power within you to heal\, grow\, and thrive.\
 n\nGET TICKETS\n
ATTACH;FMTTYPE=image/jpeg:https://breathemiami.us/wp-content/uploads/2024/
 08/Faena-O2FLO-Awaken-Breathwork-Experience.jpg
CATEGORIES:Mindfulness Events,Things To Do,Wellness Events
LOCATION:Faena Forum\, 3300-3398 Collins Avenue Miami Beach\, Miami\, Flori
 da\, 33140\, FL\, United States
X-APPLE-STRUCTURED-LOCATION;VALUE=URI;X-ADDRESS=3300-3398 Collins Avenue Mi
 ami Beach\, Miami\, Florida\, 33140\, FL\, United States;X-APPLE-RADIUS=10
 0;X-TITLE=Faena Forum:geo:0,0
END:VEVENT
BEGIN:VTIMEZONE
TZID:America/New_York
X-LIC-LOCATION:America/New_York
BEGIN:DAYLIGHT
DTSTART:20240310T030000
TZOFFSETFROM:-0500
TZOFFSETTO:-0400
TZNAME:EDT
END:DAYLIGHT
END:VTIMEZONE
END:VCALENDAR