BEGIN:VCALENDAR
VERSION:2.0
PRODID:-//wp-events-plugin.com//7.2.3.1//EN
TZID:America/New_York
X-WR-TIMEZONE:America/New_York
BEGIN:VEVENT
UID:1393@breathemiami.us
DTSTART;TZID=America/New_York:20251105T180000
DTEND;TZID=America/New_York:20251105T200000
DTSTAMP:20251104T171137Z
URL:https://breathemiami.us/events/faena-full-moon-sound-bath-cacao-ceremo
 ny-jennifer-denali-reza-cacao/
SUMMARY:Faena - Full Moon Sound Bath - Cacao Ceremony: Jennifer Denali & Re
 za Cacao
DESCRIPTION:\n\n\n\nFaena - Full Moon Sound Bath - Cacao Ceremony: Jennifer
  Denali &amp\; Reza Cacao\nWednesday\, November 5th\, 2025. 7:00 – 8:00 
 PM Mammoth Garden at Faena Miami Beach\n\n\n\nWednesday\, November 5th\, 2
 025\n6:00 – 8:00 PM\nMammoth Garden at Faena Miami Beach\nUnder the ligh
 t of the Full Beaver Moon in Taurus\, we gather to honor a night of ground
 ing\, beauty\, and heart-opening stillness. This moon invites us to reconn
 ect with the Earth\, soften into presence\, and receive the blessings of e
 mbodied love.\n\nTogether\, we will sip sacred Reza cacao\, receive a dire
 ct sound healing transmission through crystal bowls and gong blessings\, a
 nd offer rose petals to the Earth and ocean in prayer.\nCeremony Flow:\n\n
  	Arrival &amp\; Opening Prayer\n 	Reza Cacao Heart Blessing\n 	Sound Heal
 ing Journey &amp\; Gong Transmission\n 	Rose Petal Offering\n 	Closing Int
 egration\n\nPlease Bring:\n\n 	Optional: wear white or light clothing\n\n
 Come as you are. All are welcome.\nLet us gather in sacred beauty\, breath
 \, and blessing.\n\n\n\n\n\n\n
ATTACH;FMTTYPE=image/jpeg:https://breathemiami.us/wp-content/uploads/2025/
 10/Faena-Full-Moon-Sound-Bath-Cacao-Ceremony-Jennifer-Denali-Reza-Cacao-.j
 peg
CATEGORIES:Featured Events,Mindfulness Events,Things To Do,Wellness
 Events,Yoga Events
LOCATION:Faena Hotel Miami Beach\, 3201 Collins Avenue\, Miami Beach\, Flor
 ida\, 33140\, United States
X-APPLE-STRUCTURED-LOCATION;VALUE=URI;X-ADDRESS=3201 Collins Avenue\, Miami
  Beach\, Florida\, 33140\, United States;X-APPLE-RADIUS=100;X-TITLE=Faena 
 Hotel Miami Beach:geo:0,0
END:VEVENT
BEGIN:VTIMEZONE
TZID:America/New_York
X-LIC-LOCATION:America/New_York
BEGIN:STANDARD
DTSTART:20251102T010000
TZOFFSETFROM:-0400
TZOFFSETTO:-0500
TZNAME:EST
END:STANDARD
END:VTIMEZONE
END:VCALENDAR