BEGIN:VCALENDAR
VERSION:2.0
PRODID:-//wp-events-plugin.com//7.2.3.1//EN
TZID:America/New_York
X-WR-TIMEZONE:America/New_York
BEGIN:VEVENT
UID:1218@breathemiami.us
DTSTART;TZID=America/New_York:20250221T090000
DTEND;TZID=America/New_York:20250223T190000
DTSTAMP:20250205T151109Z
URL:https://breathemiami.us/events/f-l-o-w-retreat-at-faena-hotel/
SUMMARY:F.L.O.W RETREAT at FAENA HOTEL
DESCRIPTION:Theme: Freedom\, Life\, Openness\, Wellness\n\nEmbark on a tran
 sformative journey at the F.L.O.W Retreat\, held in the serene Tierra Sant
 a Healing House within the iconic Faena Hotel Miami Beach. This retreat is
  crafted to enhance your well-being by integrating spiritual\, mental\, em
 otional\, and physical health through a variety of enriching activities.\n
 \nDisconnect and Rejuvenate:\nStep away from everyday noise and immerse yo
 urself in a nurturing environment where you can unwind and engage in activ
 ities that promote deep healing and spiritual growth.\n\nRetreat Highlight
 s:\n\n 	Daily Yoga and Meditation: Engage in practices that soothe the min
 d and body.\n 	Pranic Healing Workshop: A 3-day transformative experience 
 with certification from the Institute of Inner Studies\, Philippines.\n 	S
 ound Healing Sessions: Experience sensory harmony in our luxurious Hammam.
 \n 	Nourishing Vegetarian Cuisine: Enjoy meals that rejuvenate body and sp
 irit.\n 	Stay at Casa Faena: Relax in elegance during your 2-night stay in
  the heart of Miami Beach.\n\nRetreat Options:\n3-Day Retreat with Pranic 
 Healing Course\nFinal Price: $1\,800\nIncludes: All amenities\, Pranic Hea
 ling workshop\, accommodation for 2 nights\, and meals.\n\nSchedule:\n\n 	
 Day 1: Friday\n\n 	9 AM: Group yoga\n 	10 AM: Healthy breakfast\n 	11 AM: 
 Meditation and beach time\n 	1 PM: Vegetarian lunch\n 	2 PM: Free time\n 	
 3-7:30 PM: Pranic Healing Workshop (Day 1)\n 	8 PM: Dinner\n\n\n 	Day 2: S
 aturday\n\n 	9 AM: Hammam Sound Healing\n 	11 AM: Breakfast\n 	11:30 AM: S
 pa session and massage\n 	2 PM: Vegetarian lunch\n 	3-8 PM: Pranic Healing
  Workshop (Day 2)\n 	8:30 PM: Dinner\n\n\n 	Day 3: Sunday\n\n 	9 AM: Yoga 
 and Special Breakfast\n 	10:30 AM: Pranic Healing Workshop (Day 3)\n 	1:30
  PM: Vegetarian lunch\n 	2 PM: Free time\n 	3 PM: Twin Hearts Meditation\n
  	4 PM: Closing and Diploma Ceremony\n\n\n\n1-Day Retreat without Pranic H
 ealing Course\nFinal Price: $750\nIncludes: Access to all amenities\, one 
 massage\, and all meals for the day.\n\nSchedule:\n\n 	Saturday\n\n 	9 AM:
  Hammam Sound Healing\n 	11 AM: Breakfast\n 	11:30 AM: Spa session and mas
 sage\n 	2 PM: Vegetarian lunch\n 	3 PM: Workshop with Debbie Chetrit\n 	4:
 30 PM: Final beach ceremony\n\n\n\nJoin us for a memorable retreat designe
 d to empower your ongoing journey toward personal growth and self-discover
 y.\n\n&nbsp\;\n\n\nGET TICKETS\n\n\n&nbsp\;
ATTACH;FMTTYPE=image/jpeg:https://breathemiami.us/wp-content/uploads/2025/
 02/screencapture-images-universe-3d64b1d1-e4cc-455c-bfc4-ec8d45d58447-prog
 ressive-yes-scale-crop-2220x888-center-quality-lighter-format-webp-quot-20
 25-02-05-21_06_49.png
CATEGORIES:Featured Events,Mindfulness Events,Retreats Events,Things To Do
LOCATION:Tierra Santa Healing House at Faena Hotel Miami Beach\, Third Floo
 r\, 3201 Collins Avenue\, Miami Beach\, Florida\, 33140\, United States
X-APPLE-STRUCTURED-LOCATION;VALUE=URI;X-ADDRESS=Third Floor\, 3201 Collins 
 Avenue\, Miami Beach\, Florida\, 33140\, United States;X-APPLE-RADIUS=100;
 X-TITLE=Tierra Santa Healing House at Faena Hotel Miami Beach:geo:0,0
END:VEVENT
BEGIN:VTIMEZONE
TZID:America/New_York
X-LIC-LOCATION:America/New_York
BEGIN:STANDARD
DTSTART:20241103T010000
TZOFFSETFROM:-0400
TZOFFSETTO:-0500
TZNAME:EST
END:STANDARD
END:VTIMEZONE
END:VCALENDAR