BEGIN:VCALENDAR
VERSION:2.0
PRODID:-//wp-events-plugin.com//7.2.3.1//EN
TZID:America/New_York
X-WR-TIMEZONE:America/New_York
BEGIN:VEVENT
UID:334@breathemiami.us
DTSTART;TZID=America/New_York:20240217T143000
DTEND;TZID=America/New_York:20240217T170000
DTSTAMP:20240313T002213Z
URL:https://breathemiami.us/events/experience-the-ultimate-padel-playhouse
 /
SUMMARY:Experience the Ultimate Padel Playhouse
DESCRIPTION:🎾✨ Experience the Ultimate Padel Playhouse! ✨🎾\n\n
 🕒 When: Saturday\, Feb 17th\, 2:30 PM - 5:00 PM\n📍 Where:  Reserve 
 Padel\, Miami Seaplane Base\, 1000 MacArthur Cswy\, Miami\, FL 33132\n\nWe
 lcome to an unforgettable day at Padel Playhouse\, where health\, wellness
 \, and fun collide! Join us for a jam-packed experience that promises to e
 levate your padel experience and rejuvenate your mind\, body\, and soul. H
 ere's what's in store for you:\n\nWhat's Provided:\n\n 	Hydration and refr
 eshing drinks to keep you energized throughout the event.\n 	Complimentary
  towels for use during the cold plunge and after your padel session.\n 	Hi
 gh-quality racquets and equipment to enhance your playing experience.\n 	E
 xpert pros with awesome attitudes to guide and inspire you every step of t
 he way!\n 	Showers and changing rooms\n\nWhat to Bring:\n\n 	Your awesome 
 attitude and enthusiasm for padel and wellness!\n 	Sports attire suitable 
 for physical activity\, along with tennis shoes (avoid shoes with high hee
 ls).\n 	Don't forget your bathing suit if you're planning to take a dip in
  the cold plunge!\n\n2:30 PM - Arrival &amp\; Registration:\n\n 	Upon arri
 val\, a Breathe ambassador will welcome you at the entrance. Simply ask fo
 r "Breathe" to be directed to the event.\n 	Get registered\, grab your rac
 quet\, and prepare for an afternoon of excitement!\n\n2:45 PM - Kick-off &
 amp\; Introductions:\n\n 	Gather as a group for a lively kick-off session 
 hosted by the Breathe and Reserve team.\n 	Learn about the day's agenda an
 d what to expect from this unique social experience.\n\n3:00 PM - On-Court
  Training Sessions:\n\n 	Beginners will be split into groups of four and r
 otate through stations to learn the fundamentals of padel.\n\n 	Forehand T
 echnique: Master the art of the forehand stroke with personalized instruct
 ion.\n 	Backhand Technique: Hone your backhand skills under the guidance o
 f our expert coaches.\n 	Hitting off the Wall: Practice your shots against
  the wall and improve your accuracy.\n 	Doubles Games: Put your skills to 
 the test in friendly doubles matches and have a blast on the court!\n\n\n 
 	For Advanced Players (Court 3): Advanced players will engage in dynamic g
 ames designed to challenge their skills and elevate their gameplay to the 
 next level.\n\n 	Dynamic Games:\n\n 	Experience fast-paced games like Dink
 les and Liveball that test your agility\, reflexes\, and decision-making.\
 n 	Engage in competitive matches against fellow advanced players\, fosteri
 ng camaraderie and friendly competition.\n 	Rotate partners every four poi
 nts to mix up gameplay and adapt to different playing styles.\n\n\n 	Strat
 egic Coaching:\n\n 	Receive strategic advice and tactical insights from ou
 r experienced coaches to sharpen your game.\n 	Learn advanced techniques s
 uch as shot placement\, court positioning\, and shot selection to gain a c
 ompetitive edge.\n 	Refine your game under the guidance of professionals w
 ho are dedicated to helping you reach your full potential.\n\n\n\n\n\n3:45
  PM - Recovery &amp\; Rejuvenation:\n\n 	It's time to unwind and recharge!
  The bar opens up\, offering a selection of refreshing beverages to quench
  your thirst.\n 	Brave the cold plunge and experience the invigorating sen
 sation of icy waters.\n 	Join a guided breathwork session to relax and cen
 ter yourself after an exhilarating day on the court.\n\n4:30 PM - Celebrat
 ion &amp\; Group Activities:\n\n 	As the bar remains open until 5:00 PM\, 
 mingle with fellow participants and celebrate the bonds forged on the pade
 l court.\n 	Test your detective skills as we reveal the truths and lies in
  our entertaining game of "2 Truths &amp\; a Lie."\n 	Capture the memories
  with a group photo to commemorate the friendships and fun shared at Padel
  Playhouse.\n\nDon't miss out on this fantastic opportunity to elevate you
 r padel game\, connect with like-minded individuals\, and indulge in a day
  of wellness and enjoyment. Space is limited each week to maximize the exp
 erience. Reserve your spot now for Padel Playhouse!\n\nWe can't wait to se
 e you there! 🎾✨
ATTACH;FMTTYPE=image/jpeg:https://breathemiami.us/wp-content/uploads/2024/
 02/Padel-Playhouse_Group-Picture_Reserve-Padel_Breathe-Miami.jpg
CATEGORIES:Featured Events,Sports &amp; Fitness Events
LOCATION:Reserve Padel Miami\, Miami Seaplane Base\, 1000 MacArthur Cswy\, 
 Miami\, FL 33132\, Miami\, Florida\, 33132\, United States
X-APPLE-STRUCTURED-LOCATION;VALUE=URI;X-ADDRESS=Miami Seaplane Base\, 1000 
 MacArthur Cswy\, Miami\, FL 33132\, Miami\, Florida\, 33132\, United State
 s;X-APPLE-RADIUS=100;X-TITLE=Reserve Padel Miami:geo:0,0
END:VEVENT
BEGIN:VTIMEZONE
TZID:America/New_York
X-LIC-LOCATION:America/New_York
BEGIN:STANDARD
DTSTART:20231105T010000
TZOFFSETFROM:-0400
TZOFFSETTO:-0500
TZNAME:EST
END:STANDARD
END:VTIMEZONE
END:VCALENDAR