BEGIN:VCALENDAR
VERSION:2.0
PRODID:-//wp-events-plugin.com//7.2.3.1//EN
TZID:America/New_York
X-WR-TIMEZONE:America/New_York
BEGIN:VEVENT
UID:450@breathemiami.us
DTSTART;TZID=America/New_York:20240504T143000
DTEND;TZID=America/New_York:20240504T170000
DTSTAMP:20240503T015316Z
URL:https://breathemiami.us/events/experience-the-ultimate-padel-playhouse
 -may-4th/
SUMMARY:Experience the Ultimate Padel Playhouse - 4th May
DESCRIPTION:🎾✨ Experience the Ultimate Padel Playhouse! ✨🎾\n🕒 
 When: Saturday\, May 4th\, 2:30 PM - 5:00 PM\n📍 Where:  Reserve Padel\
 , Miami Seaplane Base\, 1000 MacArthur Cswy\, Miami\, FL 33132\n\n[embed]h
 ttps://www.youtube.com/watch?v=Fo0TRSVkIpE[/embed]\n\nWelcome to an unforg
 ettable day at Padel Playhouse\, where health\, wellness\, and fun collide
 ! Join us for a jam-packed experience that promises to elevate your padel 
 experience and rejuvenate your mind\, body\, and soul. Here's what's in st
 ore for you:\n\nWhat's Provided:\n\n 	Hydration and refreshing drinks to k
 eep you energized throughout the event.\n 	Complimentary towels for use du
 ring the cold plunge and after your padel session.\n 	High-quality racquet
 s and equipment to enhance your playing experience.\n 	Expert pros with aw
 esome attitudes to guide and inspire you every step of the way!\n 	Showers
  and changing rooms\n\nWhat to Bring:\n\n 	Your awesome attitude and enthu
 siasm for padel and wellness!\n 	Sports attire suitable for physical activ
 ity\, along with tennis shoes (avoid shoes with high heels).\n 	Don't forg
 et your bathing suit if you're planning to take a dip in the cold plunge!\
 n\n2:30 PM - Arrival &amp\; Registration:\n\n 	Upon arrival\, a Breathe am
 bassador will welcome you at the entrance. Simply ask for "Breathe" to be 
 directed to the event.\n 	Get registered\, grab your racquet\, and prepare
  for an afternoon of excitement!\n\n2:45 PM - Kick-off &amp\; Introduction
 s:\n\n 	Gather as a group for a lively kick-off session hosted by the Brea
 the and Reserve team.\n 	Learn about the day's agenda and what to expect f
 rom this unique social experience.\n\n3:00 PM - On-Court Training Sessions
 :\n\n 	Beginners will be split into groups of four and rotate through stat
 ions to learn the fundamentals of padel.\n\n 	Forehand Technique: Master t
 he art of the forehand stroke with personalized instruction.\n 	Backhand T
 echnique: Hone your backhand skills under the guidance of our expert coach
 es.\n 	Hitting off the Wall: Practice your shots against the wall and impr
 ove your accuracy.\n 	Doubles Games: Put your skills to the test in friend
 ly doubles matches and have a blast on the court!\n\n\n 	For Advanced Play
 ers (Court 3): Advanced players will engage in dynamic games designed to c
 hallenge their skills and elevate their gameplay to the next level.\n\n 	D
 ynamic Games:\n\n 	Experience fast-paced games like Dinkles and Liveball t
 hat test your agility\, reflexes\, and decision-making.\n 	Engage in compe
 titive matches against fellow advanced players\, fostering camaraderie and
  friendly competition.\n 	Rotate partners every four points to mix up game
 play and adapt to different playing styles.\n\n\n 	Strategic Coaching:\n\n
  	Receive strategic advice and tactical insights from our experienced coac
 hes to sharpen your game.\n 	Learn advanced techniques such as shot placem
 ent\, court positioning\, and shot selection to gain a competitive edge.\n
  	Refine your game under the guidance of professionals who are dedicated t
 o helping you reach your full potential.\n\n\n\n\n\n3:45 PM - Recovery &am
 p\; Rejuvenation:\n\n 	It's time to unwind and recharge! The bar opens up\
 , offering a selection of refreshing beverages to quench your thirst.\n 	B
 rave the cold plunge and experience the invigorating sensation of icy wate
 rs.\n 	Join a guided breathwork session to relax and center yourself after
  an exhilarating day on the court.\n\nIV Therapy Menu - with Key Basis\n\n
  	Hangover Boost IV - $150\n\n 	A blend of amino acids that help with circ
 ulation\, athletic performance\, and maintaining a healthy digestive tract
 . Amino acids are the building blocks of proteins\, and play a critical ro
 le in your body. A collection of B-complex  &amp\; C vitamins that all pl
 ay a vital role in well-being. B-vitamins have a direct impact on energy l
 evels\, brain function\, and cell metabolism. Typically $249.\n\n\n 	Immun
 e Boost IV - $150\n\n 	A collection of B vitamins that all play a vital ro
 le in well-being. B-vitamins and Zofran. These vitamins play a crucial rol
 e in metabolism\, hydration\, and calming the nervous system\, contributin
 g to a faster recovery after a night of drinking. Typically $249.\n\n\n 	M
 eyers Cocktail - $200\n\n 	the most effective blend to strengthen the body
 's immune system\, and has been used for decades. Additionally\, the cockt
 ail supports bone health\, fights migraines\, and has been shown to reduce
  pain and improve mood. Typically $319 but the Breathe crew receives speci
 al pricing!\n\n\n\nDon't miss out on this fantastic opportunity to elevate
  your padel game\, connect with like-minded individuals\, and indulge in a
  day of wellness and enjoyment. Space is limited each week to maximize the
  experience. Reserve your spot now for Padel Playhouse!\n\nWe can't wait t
 o see you there! 🎾✨
ATTACH;FMTTYPE=image/jpeg:https://breathemiami.us/wp-content/uploads/2024/
 02/Padel-Playhouse_Group-Picture_Reserve-Padel_Breathe-Miami.jpg
CATEGORIES:Featured Events,Sports &amp; Fitness Events
LOCATION:Reserve Padel Miami\, Miami Seaplane Base\, 1000 MacArthur Cswy\, 
 Miami\, FL 33132\, Miami\, Florida\, 33132\, United States
X-APPLE-STRUCTURED-LOCATION;VALUE=URI;X-ADDRESS=Miami Seaplane Base\, 1000 
 MacArthur Cswy\, Miami\, FL 33132\, Miami\, Florida\, 33132\, United State
 s;X-APPLE-RADIUS=100;X-TITLE=Reserve Padel Miami:geo:0,0
END:VEVENT
BEGIN:VTIMEZONE
TZID:America/New_York
X-LIC-LOCATION:America/New_York
BEGIN:DAYLIGHT
DTSTART:20240310T030000
TZOFFSETFROM:-0500
TZOFFSETTO:-0400
TZNAME:EDT
END:DAYLIGHT
END:VTIMEZONE
END:VCALENDAR