BEGIN:VCALENDAR
VERSION:2.0
PRODID:-//wp-events-plugin.com//7.2.3.1//EN
TZID:America/New_York
X-WR-TIMEZONE:America/New_York
BEGIN:VEVENT
UID:409@breathemiami.us
DTSTART;TZID=America/New_York:20240406T143000
DTEND;TZID=America/New_York:20240406T170000
DTSTAMP:20240406T165648Z
URL:https://breathemiami.us/events/experience-the-ultimate-padel-playhouse
 -april-6-2024/
SUMMARY:Experience the Ultimate Padel Playhouse
DESCRIPTION:🎾✨ Experience the Ultimate Padel Playhouse! ✨🎾\n🕒 
 When: Saturday\, April 6th\, 2:30 PM - 5:00 PM\n📍 Where:  Reserve Pade
 l\, Miami Seaplane Base\, 1000 MacArthur Cswy\, Miami\, FL 33132\n\n[embed
 ]https://www.youtube.com/watch?v=Fo0TRSVkIpE[/embed]\n\nWelcome to an unfo
 rgettable day at Padel Playhouse\, where health\, wellness\, and fun colli
 de! Join us for a jam-packed experience that promises to elevate your pade
 l experience and rejuvenate your mind\, body\, and soul. Here's what's in 
 store for you:\n\nWhat's Provided:\n\n 	Hydration and refreshing drinks to
  keep you energized throughout the event.\n 	Complimentary towels for use 
 during the cold plunge and after your padel session.\n 	High-quality racqu
 ets and equipment to enhance your playing experience.\n 	Expert pros with 
 awesome attitudes to guide and inspire you every step of the way!\n 	Showe
 rs and changing rooms\n\nWhat to Bring:\n\n 	Your awesome attitude and ent
 husiasm for padel and wellness!\n 	Sports attire suitable for physical act
 ivity\, along with tennis shoes (avoid shoes with high heels).\n 	Don't fo
 rget your bathing suit if you're planning to take a dip in the cold plunge
 !\n\n2:30 PM - Arrival &amp\; Registration:\n\n 	Upon arrival\, a Breathe 
 ambassador will welcome you at the entrance. Simply ask for "Breathe" to b
 e directed to the event.\n 	Get registered\, grab your racquet\, and prepa
 re for an afternoon of excitement!\n\n2:45 PM - Kick-off &amp\; Introducti
 ons:\n\n 	Gather as a group for a lively kick-off session hosted by the Br
 eathe and Reserve team.\n 	Learn about the day's agenda and what to expect
  from this unique social experience.\n\n3:00 PM - On-Court Training Sessio
 ns:\n\n 	Beginners will be split into groups of four and rotate through st
 ations to learn the fundamentals of padel.\n\n 	Forehand Technique: Master
  the art of the forehand stroke with personalized instruction.\n 	Backhand
  Technique: Hone your backhand skills under the guidance of our expert coa
 ches.\n 	Hitting off the Wall: Practice your shots against the wall and im
 prove your accuracy.\n 	Doubles Games: Put your skills to the test in frie
 ndly doubles matches and have a blast on the court!\n\n\n 	For Advanced Pl
 ayers (Court 3): Advanced players will engage in dynamic games designed to
  challenge their skills and elevate their gameplay to the next level.\n\n 
 	Dynamic Games:\n\n 	Experience fast-paced games like Dinkles and Liveball
  that test your agility\, reflexes\, and decision-making.\n 	Engage in com
 petitive matches against fellow advanced players\, fostering camaraderie a
 nd friendly competition.\n 	Rotate partners every four points to mix up ga
 meplay and adapt to different playing styles.\n\n\n 	Strategic Coaching:\n
 \n 	Receive strategic advice and tactical insights from our experienced co
 aches to sharpen your game.\n 	Learn advanced techniques such as shot plac
 ement\, court positioning\, and shot selection to gain a competitive edge.
 \n 	Refine your game under the guidance of professionals who are dedicated
  to helping you reach your full potential.\n\n\n\n\n\n3:45 PM - Recovery &
 amp\; Rejuvenation:\n\n 	It's time to unwind and recharge! The bar opens u
 p\, offering a selection of refreshing beverages to quench your thirst.\n 
 	Brave the cold plunge and experience the invigorating sensation of icy wa
 ters.\n 	Join a guided breathwork session to relax and center yourself aft
 er an exhilarating day on the court.\n\nDon't miss out on this fantastic o
 pportunity to elevate your padel game\, connect with like-minded individua
 ls\, and indulge in a day of wellness and enjoyment. Space is limited each
  week to maximize the experience. Reserve your spot now for Padel Playhous
 e!\n\nWe can't wait to see you there! 🎾✨
ATTACH;FMTTYPE=image/jpeg:https://breathemiami.us/wp-content/uploads/2024/
 02/Padel-Playhouse_Group-Picture_Reserve-Padel_Breathe-Miami.jpg
CATEGORIES:Featured Events,Sports &amp; Fitness Events
LOCATION:Reserve Padel Miami\, Miami Seaplane Base\, 1000 MacArthur Cswy\, 
 Miami\, FL 33132\, Miami\, Florida\, 33132\, United States
X-APPLE-STRUCTURED-LOCATION;VALUE=URI;X-ADDRESS=Miami Seaplane Base\, 1000 
 MacArthur Cswy\, Miami\, FL 33132\, Miami\, Florida\, 33132\, United State
 s;X-APPLE-RADIUS=100;X-TITLE=Reserve Padel Miami:geo:0,0
END:VEVENT
BEGIN:VTIMEZONE
TZID:America/New_York
X-LIC-LOCATION:America/New_York
BEGIN:DAYLIGHT
DTSTART:20240310T030000
TZOFFSETFROM:-0500
TZOFFSETTO:-0400
TZNAME:EDT
END:DAYLIGHT
END:VTIMEZONE
END:VCALENDAR