BEGIN:VCALENDAR
VERSION:2.0
PRODID:-//wp-events-plugin.com//7.2.3.1//EN
TZID:America/New_York
X-WR-TIMEZONE:America/New_York
BEGIN:VEVENT
UID:509@breathemiami.us
DTSTART;TZID=America/New_York:20240525T170000
DTEND;TZID=America/New_York:20240525T193000
DTSTAMP:20240523T123458Z
URL:https://breathemiami.us/events/experience-the-ultimate-padel-playhouse
 -25th-may/
SUMMARY:Experience the Ultimate Padel Playhouse - 25th May
DESCRIPTION:🎾✨ Experience the Ultimate Padel Playhouse! ✨🎾\n🕒 
 When: Saturday\, May 25th\, 5:00 PM - 7:30 PM\n📍 Where:  Reserve Padel
 \, Miami Seaplane Base\, 1000 MacArthur Cswy\, Miami\, FL 33132\n\n[embed]
 https://www.youtube.com/watch?v=Fo0TRSVkIpE[/embed]\n\nWelcome to an unfor
 gettable day at Padel Playhouse\, where health\, wellness\, and fun collid
 e! Join us for a jam-packed experience that promises to elevate your padel
  experience and rejuvenate your mind\, body\, and soul. Here's what's in s
 tore for you:\n\nWhat's Provided:\n\n 	Hydration and refreshing drinks to 
 keep you energized throughout the event.\n 	Complimentary towels for use d
 uring the cold plunge and after your padel session.\n 	High-quality racque
 ts and equipment to enhance your playing experience.\n 	Expert pros with a
 wesome attitudes to guide and inspire you every step of the way!\n 	Shower
 s and changing rooms\n\nWhat to Bring:\n\n 	Your awesome attitude and enth
 usiasm for padel and wellness!\n 	Sports attire suitable for physical acti
 vity\, along with tennis shoes (avoid shoes with high heels).\n 	Don't for
 get your bathing suit if you're planning to take a dip in the cold plunge!
 \n\n5:00 PM - Arrival &amp\; Registration:\n\n 	Upon arrival\, a Breathe a
 mbassador will welcome you at the entrance. Simply ask for "Breathe" to be
  directed to the event.\n 	Get registered\, grab your racquet\, and prepar
 e for an afternoon of excitement!\n\n5:15 PM - Kick-off &amp\; Introductio
 ns:\n\n 	Gather as a group for a lively kick-off session hosted by the Bre
 athe and Reserve team.\n 	Learn about the day's agenda and what to expect 
 from this unique social experience.\n\n5:30 PM - On-Court Training Session
 s:\n\n 	Beginners will be split into groups of four and rotate through sta
 tions to learn the fundamentals of padel.\n\n 	Forehand Technique: Master 
 the art of the forehand stroke with personalized instruction.\n 	Backhand 
 Technique: Hone your backhand skills under the guidance of our expert coac
 hes.\n 	Hitting off the Wall: Practice your shots against the wall and imp
 rove your accuracy.\n 	Doubles Games: Put your skills to the test in frien
 dly doubles matches and have a blast on the court!\n\n\n 	For Advanced Pla
 yers (Court 3): Advanced players will engage in dynamic games designed to 
 challenge their skills and elevate their gameplay to the next level.\n\n 	
 Dynamic Games:\n\n 	Experience fast-paced games like Dinkles and Liveball 
 that test your agility\, reflexes\, and decision-making.\n 	Engage in comp
 etitive matches against fellow advanced players\, fostering camaraderie an
 d friendly competition.\n 	Rotate partners every four points to mix up gam
 eplay and adapt to different playing styles.\n\n\n 	Strategic Coaching:\n\
 n 	Receive strategic advice and tactical insights from our experienced coa
 ches to sharpen your game.\n 	Learn advanced techniques such as shot place
 ment\, court positioning\, and shot selection to gain a competitive edge.\
 n 	Refine your game under the guidance of professionals who are dedicated 
 to helping you reach your full potential.\n\n\n\n\n\n6:15 PM - Recovery &a
 mp\; Rejuvenation:\n\n 	It's time to unwind and recharge! The bar opens up
 \, offering a selection of refreshing beverages to quench your thirst.\n 	
 Brave the cold plunge and experience the invigorating sensation of icy wat
 ers.\n 	Join a guided breathwork session to relax and center yourself afte
 r an exhilarating day on the court.\n\n\n 	\n\nDon't miss out on this fant
 astic opportunity to elevate your padel game\, connect with like-minded in
 dividuals\, and indulge in a day of wellness and enjoyment. Space is limit
 ed each week to maximize the experience. Reserve your spot now for Padel P
 layhouse!\n\nWe can't wait to see you there! 🎾✨
ATTACH;FMTTYPE=image/jpeg:https://breathemiami.us/wp-content/uploads/2024/
 02/Padel-Playhouse_Group-Picture_Reserve-Padel_Breathe-Miami.jpg
CATEGORIES:Featured Events,Sports &amp; Fitness Events
LOCATION:Reserve Padel Miami\, Miami Seaplane Base\, 1000 MacArthur Cswy\, 
 Miami\, FL 33132\, Miami\, Florida\, 33132\, United States
X-APPLE-STRUCTURED-LOCATION;VALUE=URI;X-ADDRESS=Miami Seaplane Base\, 1000 
 MacArthur Cswy\, Miami\, FL 33132\, Miami\, Florida\, 33132\, United State
 s;X-APPLE-RADIUS=100;X-TITLE=Reserve Padel Miami:geo:0,0
END:VEVENT
BEGIN:VTIMEZONE
TZID:America/New_York
X-LIC-LOCATION:America/New_York
BEGIN:DAYLIGHT
DTSTART:20240310T030000
TZOFFSETFROM:-0500
TZOFFSETTO:-0400
TZNAME:EDT
END:DAYLIGHT
END:VTIMEZONE
END:VCALENDAR