BEGIN:VCALENDAR
VERSION:2.0
PRODID:-//wp-events-plugin.com//7.2.3.1//EN
TZID:America/New_York
X-WR-TIMEZONE:America/New_York
BEGIN:VEVENT
UID:623@breathemiami.us
DTSTART;TZID=America/New_York:20240720T180000
DTEND;TZID=America/New_York:20240720T233000
DTSTAMP:20240706T104452Z
URL:https://breathemiami.us/events/experience-cuban-art-show-in-miami/
SUMMARY:Experience Cuban Art Show in Miami
DESCRIPTION:Immerse yourself in the captivating world of Alberto Godoy's ar
 twork\, where each piece vividly narrates the rich tapestry of Cuban life 
 and culture.\nSavor Cuban Delights\nIndulge in the authentic flavors of Cu
 ba with traditional Cuban cocktails and witness the art of live Cuban toba
 cco rolling\, adding an extra layer of cultural immersion to your artistic
  journey.\n\nPrepare to be transported to the vibrant streets of Cuba as y
 ou explore the soul-stirring creations of this exceptional artist.\n\nEven
 t Highlights:\n\n 	Explore Alberto Godoy's Artworks: Discover the depth an
 d beauty of Cuban life through the eyes of a talented artist.\n 	Enjoy Aut
 hentic Cuban Cocktails: Savor the taste of Cuba with expertly crafted drin
 ks.\n 	Witness Live Tobacco Rolling: Experience the tradition of Cuban tob
 acco with live rolling demonstrations.\n 	Meet and Greet with the Artist: 
 Engage with Alberto Godoy and gain deeper insights into his inspiration an
 d creative process.\n\nJoin us for an unforgettable evening of art\, cultu
 re\, and Cuban delights at the Experience Cuban Art Show in Miami.\n\nGET 
 TICKETS\n
ATTACH;FMTTYPE=image/jpeg:https://breathemiami.us/wp-content/uploads/2024/
 07/Experience-Cuban-Art-Show-in-Miami.jpg
CATEGORIES:Mindfulness Events,Things To Do
LOCATION:3858 SW 30th Ave\, 3858 Southwest 30th Avenue Fort Lauderdale\, Mi
 ami\, Florida\, 33312\, FL \, United States
X-APPLE-STRUCTURED-LOCATION;VALUE=URI;X-ADDRESS=3858 Southwest 30th Avenue 
 Fort Lauderdale\, Miami\, Florida\, 33312\, FL \, United States;X-APPLE-RA
 DIUS=100;X-TITLE=3858 SW 30th Ave:geo:0,0
END:VEVENT
BEGIN:VTIMEZONE
TZID:America/New_York
X-LIC-LOCATION:America/New_York
BEGIN:DAYLIGHT
DTSTART:20240310T030000
TZOFFSETFROM:-0500
TZOFFSETTO:-0400
TZNAME:EDT
END:DAYLIGHT
END:VTIMEZONE
END:VCALENDAR