BEGIN:VCALENDAR
VERSION:2.0
PRODID:-//wp-events-plugin.com//7.2.3.1//EN
TZID:America/New_York
X-WR-TIMEZONE:America/New_York
BEGIN:VEVENT
UID:1008@breathemiami.us
DTSTART;TZID=America/New_York:20241103T100000
DTEND;TZID=America/New_York:20241103T113000
DTSTAMP:20241005T142627Z
URL:https://breathemiami.us/events/exciting-news-sunday-rooftop-yoga-with-
 mlc-at-love-life-cafe/
SUMMARY:Exciting News: Sunday Rooftop Yoga with MLC at Love Life Café!
DESCRIPTION:Elevate your Sundays with a refreshing and energizing yoga expe
 rience! Starting September 8th\, join us every week for an invigorating ro
 oftop yoga class at the Love Life Building\, in collaboration with Miami L
 ife Center.\n\nLocation:\nRooftop of Love Life Building\, 545 NW 26th St\,
  Miami\, FL 33127\n\nTime:\nSundays\, 10:00 AM – 11:15 AM\n\nWith a stun
 ning rooftop view overlooking the Miami skyline\, this yoga class blends t
 he beauty of nature with the dynamic energy of the city. Each week\, a tal
 ented instructor from Miami Life Center will guide the class\, introducing
  a new mix of yoga poses and breathing techniques designed to help you rel
 ax\, reenergize\, and finish your week feeling balanced and renewed. Wheth
 er you’re an experienced yogi or just beginning your journey\, this clas
 s is open to all levels and provides a supportive space to enhance your pr
 actice.\n\nThe rooftop setting offers not only breathtaking views but also
  a serene environment to connect with a like-minded community. After class
 \, replenish your energy with an exclusive 20% off your order at Love Life
  Café\, the perfect way to complete your Sunday wellness routine.\n\nWhat
  to Bring:\n\n 	Your own yoga mat (no rentals available)\n 	Comfortable\, 
 breathable clothing\n\nWhy Attend:\n\n 	Practice with top instructors from
  Miami Life Center\n 	Breathtaking rooftop views and tranquil atmosphere\n
  	Connect with a vibrant\, supportive community\n 	Exclusive 20% off at Lo
 ve Life Café post-class\n\nPre-registration is required\, as space is lim
 ited. Don’t miss out—secure your spot today for an unforgettable Sunda
 y yoga experience that will leave you feeling uplifted and ready for the w
 eek ahead.\n\nWe look forward to seeing you on the rooftop\, ready to stre
 tch\, strengthen\, and smile!\n\nGET TICKETS\n
ATTACH;FMTTYPE=image/jpeg:https://breathemiami.us/wp-content/uploads/2024/
 10/Exciting-News-Sunday-Rooftop-Yoga-with-MLC-at-Love-Life-Cafe.jpg
CATEGORIES:Yoga Events
LOCATION:Love Life Cafe\, 545 Northwest 26th Street Miami\, Miami\, Florida
 \, 33127\, United States
X-APPLE-STRUCTURED-LOCATION;VALUE=URI;X-ADDRESS=545 Northwest 26th Street M
 iami\, Miami\, Florida\, 33127\, United States;X-APPLE-RADIUS=100;X-TITLE=
 Love Life Cafe:geo:0,0
END:VEVENT
BEGIN:VTIMEZONE
TZID:America/New_York
X-LIC-LOCATION:America/New_York
BEGIN:STANDARD
DTSTART:20241103T010000
TZOFFSETFROM:-0400
TZOFFSETTO:-0500
TZNAME:EST
END:STANDARD
END:VTIMEZONE
END:VCALENDAR