BEGIN:VCALENDAR
VERSION:2.0
PRODID:-//wp-events-plugin.com//7.2.3.1//EN
TZID:America/New_York
X-WR-TIMEZONE:America/New_York
BEGIN:VEVENT
UID:1264@breathemiami.us
DTSTART;TZID=America/New_York:20250311T191500
DTEND;TZID=America/New_York:20250311T204500
DTSTAMP:20250218T005815Z
URL:https://breathemiami.us/events/eternal-the-breath-journey/
SUMMARY:ETERNAL: The Breath Journey
DESCRIPTION:Eternal Breath is a transformative breathwork experience design
 ed to realign individuals with the boundless rhythm of life. Through a car
 efully curated sequence of guided breathing techniques\, immersive sensory
  engagement\, and a heightened state of awareness\, participants are invit
 ed to unlock a profound sense of clarity\, rejuvenation\, and inner peace.
  This journey encourages individuals to embrace the present moment fully
 —deepening their breath\, expanding their consciousness\, and awakening 
 their infinite potential.\n\nAbout Jonah Kest\nJonah Kest\, a globally acc
 laimed yoga instructor and wellness mentor\, comes from a distinguished li
 neage of yoga pioneers. With an unwavering dedication to movement\, breath
 work\, and mindfulness\, he seamlessly integrates ancient yogic wisdom wit
 h contemporary practices. Trained extensively in Ashtanga and Vinyasa yoga
  since childhood\, Jonah has devoted his life to guiding individuals towar
 d self-discovery\, presence\, and holistic well-being. Whether leading imm
 ersive retreats\, breath-centered workshops\, or dynamic yoga flows\, his 
 teachings foster deep connection\, balance\, and transformation for practi
 tioners of all levels.\n\nEvent Highlights\n\n 	Guided Breathwork Session 
 – Led by Jonah Kest on March 11\, 2025\, at 7:15 PM\n 	Immersive Visuals
  &amp\; Soundscapes – A multi-sensory experience designed to enhance rel
 axation and mindfulness\n 	Open to All Levels – Whether a beginner or ex
 perienced practitioner\, this journey is accessible to everyone\n\nEvent D
 etails\n\n 	Venue Entrance: Located on 28th Street\n 	Parking: Street park
 ing available (paid)\n 	Doors Open: 7:15 PM – Arrive early to settle in\
 n 	What to Bring: A yoga mat and a bottle of water for comfort\n\nStep int
 o a space where breath meets presence\, movement harmonizes with light\, a
 nd stillness becomes a gateway to transformation. Experience the eternal r
 hythm of life—one breath at a time.\n\n\nGET TICKETS\n
ATTACH;FMTTYPE=image/jpeg:https://breathemiami.us/wp-content/uploads/2025/
 02/ETERNAL-The-Breath-Journey-1.jpg
CATEGORIES:Wellness Events
LOCATION:311 NW 28th St\, 311 Northwest 28th Street\, Suite 21 Miami\, FL\,
  33127\, FL\, United States
X-APPLE-STRUCTURED-LOCATION;VALUE=URI;X-ADDRESS=311 Northwest 28th Street\,
  Suite 21 Miami\, FL\, 33127\, FL\, United States;X-APPLE-RADIUS=100;X-TIT
 LE=311 NW 28th St:geo:0,0
END:VEVENT
BEGIN:VTIMEZONE
TZID:America/New_York
X-LIC-LOCATION:America/New_York
BEGIN:DAYLIGHT
DTSTART:20250309T030000
TZOFFSETFROM:-0500
TZOFFSETTO:-0400
TZNAME:EDT
END:DAYLIGHT
END:VTIMEZONE
END:VCALENDAR