BEGIN:VCALENDAR
VERSION:2.0
PRODID:-//wp-events-plugin.com//7.2.3.1//EN
TZID:America/New_York
X-WR-TIMEZONE:America/New_York
BEGIN:VEVENT
UID:983@breathemiami.us
DTSTART;TZID=America/New_York:20241012T093000
DTEND;TZID=America/New_York:20241012T103000
DTSTAMP:20241003T105549Z
URL:https://breathemiami.us/events/eras-tour-sculpt-party/
SUMMARY:Era's Tour Sculpt Party
DESCRIPTION:Era's Tour Sculpt Party invites participants to a lively and en
 gaging workout experience inspired by Taylor Swift’s iconic music. This 
 Sculpt &amp\; Strength class is perfect for anyone looking to combine fitn
 ess with fun\, regardless of their fitness level. Whether you’re a seaso
 ned Pilates enthusiast or a first-time attendee\, this session promises to
  energize and uplift.\n\nSet to a playlist featuring hits from every era o
 f Taylor Swift’s career\, the class is designed to motivate and inspire 
 through movement. Attendees will enjoy a dynamic workout that emphasizes s
 trength training\, sculpting\, and the joy of dancing along to their favor
 ite tracks. It’s a unique opportunity to enhance your fitness routine wh
 ile immersing yourself in the magic of Swift’s music.\n\nEvent Details:\
 n\n 	Date: Saturday\, October 12\, 2024\n 	Time: 9:30 AM - 10:30 AM\n 	Loc
 ation: Arlo Wynwood\, Yoga Deck (3rd Floor)\n\nParticipants are encouraged
  to bring comfortable workout clothes\, a yoga mat\, and a water bottle to
  stay hydrated throughout the session. This all-inclusive class is sure to
  be a shake-it-off sensation\, blending fitness with the joyful spirit of 
 Taylor Swift’s songs. Don’t miss out on this chance to elevate your wo
 rkout routine with a touch of pop culture magic. Join the fun and feel the
  energy!\n\nGET TICKETS\n
ATTACH;FMTTYPE=image/jpeg:https://breathemiami.us/wp-content/uploads/2024/
 10/Eras-Tour-Sculpt-Party.jpg
CATEGORIES:Retreats Events
LOCATION:Arlo Wynwood Miami\, 2217 Northwest Miami Court Miami\, Miami\, Fl
 orida\, 33127\,  FL \, United States
X-APPLE-STRUCTURED-LOCATION;VALUE=URI;X-ADDRESS=2217 Northwest Miami Court 
 Miami\, Miami\, Florida\, 33127\,  FL \, United States;X-APPLE-RADIUS=100;
 X-TITLE=Arlo Wynwood Miami:geo:0,0
END:VEVENT
BEGIN:VTIMEZONE
TZID:America/New_York
X-LIC-LOCATION:America/New_York
BEGIN:DAYLIGHT
DTSTART:20240310T030000
TZOFFSETFROM:-0500
TZOFFSETTO:-0400
TZNAME:EDT
END:DAYLIGHT
END:VTIMEZONE
END:VCALENDAR