BEGIN:VCALENDAR
VERSION:2.0
PRODID:-//wp-events-plugin.com//7.2.3.1//EN
TZID:America/New_York
X-WR-TIMEZONE:America/New_York
BEGIN:VEVENT
UID:922@breathemiami.us
DTSTART;TZID=America/New_York:20241017T190000
DTEND;TZID=America/New_York:20241017T210000
DTSTAMP:20240929T112813Z
URL:https://breathemiami.us/events/energy-healing/
SUMMARY:Energy healing
DESCRIPTION:Join the community for an enlightening journey at the Energy He
 aling event\, where participants can explore the profound effects of energ
 y work on their well-being. This event promises to be a transformative exp
 erience\, focusing on the intricate connection between energy and personal
  balance.\n\nLocation: 1442 Polk St\n\nAt this welcoming gathering\, indiv
 iduals will have the chance to delve into the healing benefits of various 
 energy practices in a nurturing environment. Whether someone is just begin
 ning to explore the world of energy healing or has years of experience\, t
 his event caters to all levels of interest and expertise.\n\nParticipants 
 will engage in hands-on sessions designed to help them recharge and rejuve
 nate their energy fields. Attendees can expect to learn about different mo
 dalities\, including but not limited to\, Reiki\, chakra balancing\, and s
 ound healing. These practices not only promote physical healing but also e
 nhance emotional and spiritual well-being.\n\nThe event will feature guide
 d exercises\, group discussions\, and opportunities for individual healing
  sessions\, all aimed at fostering a sense of community and support among 
 those seeking alternative healing methods. This is a perfect opportunity f
 or anyone looking to regain their vitality and achieve a deeper sense of h
 armony in their lives.\n\nDon’t miss out on this unique opportunity to c
 onnect with others who share an interest in energy healing and to discover
  the tools that can help bring balance and serenity into everyday life. Em
 brace the chance to elevate your energy and transform your experience of w
 ell-being.\n\nGET TICKETS\n
ATTACH;FMTTYPE=image/jpeg:https://breathemiami.us/wp-content/uploads/2024/
 09/Energy-healing.jpg
CATEGORIES:Things To Do
LOCATION:1442 Polk St\, 1442 Polk Street Hollywood\, Miami\, Florida\, 3302
 0 \, FL\, United States
X-APPLE-STRUCTURED-LOCATION;VALUE=URI;X-ADDRESS=1442 Polk Street Hollywood\
 , Miami\, Florida\, 33020 \, FL\, United States;X-APPLE-RADIUS=100;X-TITLE
 =1442 Polk St:geo:0,0
END:VEVENT
BEGIN:VTIMEZONE
TZID:America/New_York
X-LIC-LOCATION:America/New_York
BEGIN:DAYLIGHT
DTSTART:20240310T030000
TZOFFSETFROM:-0500
TZOFFSETTO:-0400
TZNAME:EDT
END:DAYLIGHT
END:VTIMEZONE
END:VCALENDAR