BEGIN:VCALENDAR
VERSION:2.0
PRODID:-//wp-events-plugin.com//7.2.3.1//EN
TZID:America/New_York
X-WR-TIMEZONE:America/New_York
BEGIN:VEVENT
UID:653@breathemiami.us
DTSTART;TZID=America/New_York:20240808T180000
DTEND;TZID=America/New_York:20240808T193000
DTSTAMP:20240803T051155Z
URL:https://breathemiami.us/events/energy-activation-class/
SUMMARY:Energy Activation Class
DESCRIPTION:Immerse yourself in an energy activation class led by certified
  meditation teacher\, breathwork facilitator\, and Reiki healer Nicole Tha
 w. Nicole will guide participants through an evening enriched with the har
 monious sounds of bowls\, the power of life force energy\, breathwork\, Re
 iki\, and spinal energetics. This holistic session is designed to awaken a
 nd balance your inner energy.\n\nNicole will also facilitate the Kundalini
  Activation Process (KAP)\, an energy transmission that supports the awake
 ning of your innate Kundalini energy. Following this\, experience a transf
 ormative sound healing journey led by sound healer and certified Reiki Lev
 el 2 practitioner Mason Hamilton. The unique blend of KAP and sound healin
 g offers a comprehensive approach to wellness\, addressing both the energe
 tic and physical aspects of health. This synergy leads to profound transfo
 rmation in mental\, emotional\, and spiritual well-being.\nEvent Details:\
 n\n 	Instructor: Nicole Thaw\, certified meditation teacher\, breathwork f
 acilitator\, and Reiki healer\n 	Special Guest: Mason Hamilton\, sound hea
 ler and certified Reiki Level 2 practitioner\n 	Activities: Sound bowls\, 
 life force energy\, breathwork\, Reiki\, spinal energetics\, Kundalini Act
 ivation Process (KAP)\, and sound healing\n 	Location: Yoga Studio\, secon
 d floor near Bamford Wellness Spa and Anatomy Gym\n 	Benefits: Holistic we
 llness\, energy activation\, mental clarity\, emotional balance\, and spir
 itual transformation\n\nJoin us for an evening of deep healing and energy 
 activation\, and leave feeling rejuvenated\, balanced\, and connected to y
 our inner self. This is a unique opportunity to experience the powerful co
 mbination of KAP and sound healing in a serene and supportive environment.
  Secure your spot and embark on a journey of holistic well-being.\n\nGET T
 ICKETS\n
ATTACH;FMTTYPE=image/jpeg:https://breathemiami.us/wp-content/uploads/2024/
 08/Energy-Activation-Class.jpg
CATEGORIES:Mindfulness Events,Things To Do,Wellness Events
LOCATION:1 Hotel South Beach\, 2341 Collins Avenue Miami Beach\, Miami\, Fl
 orida\, 33139\,  FL \, United States
X-APPLE-STRUCTURED-LOCATION;VALUE=URI;X-ADDRESS=2341 Collins Avenue Miami B
 each\, Miami\, Florida\, 33139\,  FL \, United States;X-APPLE-RADIUS=100;X
 -TITLE=1 Hotel South Beach:geo:0,0
END:VEVENT
BEGIN:VTIMEZONE
TZID:America/New_York
X-LIC-LOCATION:America/New_York
BEGIN:DAYLIGHT
DTSTART:20240310T030000
TZOFFSETFROM:-0500
TZOFFSETTO:-0400
TZNAME:EDT
END:DAYLIGHT
END:VTIMEZONE
END:VCALENDAR